BEGIN:VCALENDAR
VERSION:2.0
PRODID:-//Our Savior&#039;s Church - ECPv6.0.13//NONSGML v1.0//EN
CALSCALE:GREGORIAN
METHOD:PUBLISH
X-WR-CALNAME:Our Savior&#039;s Church
X-ORIGINAL-URL:https://oursaviorschurch.com
X-WR-CALDESC:Events for Our Savior&#039;s Church
REFRESH-INTERVAL;VALUE=DURATION:PT1H
X-Robots-Tag:noindex
X-PUBLISHED-TTL:PT1H
BEGIN:VTIMEZONE
TZID:America/Chicago
BEGIN:DAYLIGHT
TZOFFSETFROM:-0600
TZOFFSETTO:-0500
TZNAME:CDT
DTSTART:20260308T080000
END:DAYLIGHT
BEGIN:STANDARD
TZOFFSETFROM:-0500
TZOFFSETTO:-0600
TZNAME:CST
DTSTART:20261101T070000
END:STANDARD
END:VTIMEZONE
BEGIN:VEVENT
DTSTART;TZID=America/Chicago:20261011T110000
DTEND;TZID=America/Chicago:20261011T113000
DTSTAMP:20260420T133506
CREATED:20240115T162059Z
LAST-MODIFIED:20240115T162059Z
UID:18414-1791716400-1791718200@oursaviorschurch.com
SUMMARY:Intro to Serve
DESCRIPTION:Immediately following service in the Multipurpose Room
URL:https://oursaviorschurch.com/event/intro-to-serve-5/2026-10-11/
CATEGORIES:Abbeville
ATTACH;FMTTYPE=image/png:https://oursaviorschurch.com/wp-content/uploads/2023/04/OSC-intro-to-Service-copy.png
END:VEVENT
BEGIN:VEVENT
DTSTART;TZID=America/Chicago:20261014T080000
DTEND;TZID=America/Chicago:20261014T170000
DTSTAMP:20260420T133506
CREATED:20260414T140920Z
LAST-MODIFIED:20260414T140946Z
UID:24161-1791964800-1791997200@oursaviorschurch.com
SUMMARY:Young Adults
DESCRIPTION:Young Adults – 6:30-8:30 at LC in the Theatre
URL:https://oursaviorschurch.com/event/young-adults-6/2026-10-14/
CATEGORIES:Lafayette
ATTACH;FMTTYPE=image/jpeg:https://oursaviorschurch.com/wp-content/uploads/2026/04/youngadults-defaults6.jpg
END:VEVENT
BEGIN:VEVENT
DTSTART;TZID=America/Chicago:20261018T090000
DTEND;TZID=America/Chicago:20261018T113000
DTSTAMP:20260420T133506
CREATED:20250922T180243Z
LAST-MODIFIED:20250922T180243Z
UID:20519-1792314000-1792323000@oursaviorschurch.com
SUMMARY:Baptism
DESCRIPTION:During 9 & 11 am services.
URL:https://oursaviorschurch.com/event/baptism-3/2026-10-18/
CATEGORIES:New Iberia
ATTACH;FMTTYPE=image/png:https://oursaviorschurch.com/wp-content/uploads/2022/09/Baptism-Altscreen.png
END:VEVENT
BEGIN:VEVENT
DTSTART;TZID=America/Chicago:20261024T080000
DTEND;TZID=America/Chicago:20261024T100000
DTSTAMP:20260420T133506
CREATED:20221108T035839Z
LAST-MODIFIED:20221108T035839Z
UID:13921-1792828800-1792836000@oursaviorschurch.com
SUMMARY:Men's Community Breakfast
DESCRIPTION:Every 4th Saturday of the month from 8am-10am at The Hope Center in St. Martinville
URL:https://oursaviorschurch.com/event/mens-community-breakfast/2026-10-24/
LOCATION:The Hope Center\, 115 E Bridge St\, St. Martinville\, LA\, 70582\, United States
CATEGORIES:Broussard
ATTACH;FMTTYPE=image/jpeg:https://oursaviorschurch.com/wp-content/uploads/2022/11/mens-event.jpg
END:VEVENT
BEGIN:VEVENT
DTSTART;TZID=America/Chicago:20261030T180000
DTEND;TZID=America/Chicago:20261030T200000
DTSTAMP:20260420T133506
CREATED:20230227T220235Z
LAST-MODIFIED:20230227T220235Z
UID:14000-1793383200-1793390400@oursaviorschurch.com
SUMMARY:Young Adults
DESCRIPTION:
URL:https://oursaviorschurch.com/event/young-adults/2026-10-30/
LOCATION:OSC Opelousas\, 202 Our Savior's Church Blvd\, Opelousas\, LA\, 70570\, United States
CATEGORIES:Opelousas
ATTACH;FMTTYPE=image/jpeg:https://oursaviorschurch.com/wp-content/uploads/2023/02/FF-look-final.jpg
ORGANIZER;CN="OSC%20Opelousas":MAILTO:opelousas@oscfamily.com
END:VEVENT
END:VCALENDAR