BEGIN:VCALENDAR
VERSION:2.0
PRODID:-//Our Savior&#039;s Church - ECPv6.0.13//NONSGML v1.0//EN
CALSCALE:GREGORIAN
METHOD:PUBLISH
X-ORIGINAL-URL:https://oursaviorschurch.com
X-WR-CALDESC:Events for Our Savior&#039;s Church
REFRESH-INTERVAL;VALUE=DURATION:PT1H
X-Robots-Tag:noindex
X-PUBLISHED-TTL:PT1H
BEGIN:VTIMEZONE
TZID:America/Chicago
BEGIN:DAYLIGHT
TZOFFSETFROM:-0600
TZOFFSETTO:-0500
TZNAME:CDT
DTSTART:20230312T080000
END:DAYLIGHT
BEGIN:STANDARD
TZOFFSETFROM:-0500
TZOFFSETTO:-0600
TZNAME:CST
DTSTART:20231105T070000
END:STANDARD
END:VTIMEZONE
BEGIN:VEVENT
DTSTART;TZID=America/Chicago:20231003T183000
DTEND;TZID=America/Chicago:20231003T203000
DTSTAMP:20260420T230612
CREATED:20230922T210742Z
LAST-MODIFIED:20230922T210742Z
UID:8681-1696357800-1696365000@oursaviorschurch.com
SUMMARY:Women's Bible Study
DESCRIPTION:Join us on Tuesdays from October 3rd to October 24th\, at 6:30pm at the New Iberia Campus as Mrs. Michelle Aranza will be teaching! \nChildcare from 0-5 years old is provided.
URL:https://oursaviorschurch.com/event/womens-bible-study/2023-10-03/
LOCATION:OSC New Iberia\, 4201 E Admiral Doyle Dr\, New Iberia\, LA\, 70560\, United States
CATEGORIES:Broussard,New Iberia
ATTACH;FMTTYPE=image/jpeg:https://oursaviorschurch.com/wp-content/uploads/2023/09/WBS-BC-times-screen.jpg
END:VEVENT
BEGIN:VEVENT
DTSTART;TZID=America/Chicago:20231004T183000
DTEND;TZID=America/Chicago:20231004T203000
DTSTAMP:20260420T230612
CREATED:20230922T211058Z
LAST-MODIFIED:20230922T211528Z
UID:8697-1696444200-1696451400@oursaviorschurch.com
SUMMARY:Women's Bible Study
DESCRIPTION:Join us on Wednesdays from October 4th to October 25th\, at 6:30pm at the Opelousas Campus as Mrs. Heidi Reiszner will be teaching! \nChildcare from 0-5 years old is provided.
URL:https://oursaviorschurch.com/event/womens-bible-study-2/2023-10-04/
LOCATION:OSC Opelousas\, 202 Our Savior's Church Blvd\, Opelousas\, LA\, 70570\, United States
CATEGORIES:Opelousas
ATTACH;FMTTYPE=image/jpeg:https://oursaviorschurch.com/wp-content/uploads/2023/09/Esther-WBS-OC-dates-1.jpg
END:VEVENT
BEGIN:VEVENT
DTSTART;TZID=America/Chicago:20231005T170000
DTEND;TZID=America/Chicago:20231005T173000
DTSTAMP:20260420T230612
CREATED:20231005T223220Z
LAST-MODIFIED:20231005T223220Z
UID:8801-1696525200-1696527000@oursaviorschurch.com
SUMMARY:Child Dedication
DESCRIPTION:
URL:https://oursaviorschurch.com/event/child-dedication/
CATEGORIES:Abbeville
ATTACH;FMTTYPE=image/png:https://oursaviorschurch.com/wp-content/uploads/2023/07/4.png
END:VEVENT
BEGIN:VEVENT
DTSTART;TZID=America/Chicago:20231005T183000
DTEND;TZID=America/Chicago:20231005T203000
DTSTAMP:20260420T230612
CREATED:20230922T211410Z
LAST-MODIFIED:20230922T211410Z
UID:8702-1696530600-1696537800@oursaviorschurch.com
SUMMARY:Women's Bible Study
DESCRIPTION:Join us on Thursdays from October 5th to October 26th\, at 6:30pm at the Lafayette Campus as Mrs. Heidi Reiszner will be teaching! \nChildcare from 0-5 years old is provided.
URL:https://oursaviorschurch.com/event/womens-bible-study-3/2023-10-05/
LOCATION:OSC Lafayette\, 1201 E Broussard Rd\, Lafayette\, LA\, 70508\, United States
CATEGORIES:Abbeville,Lafayette,Midtown,Youngsville
ATTACH;FMTTYPE=image/jpeg:https://oursaviorschurch.com/wp-content/uploads/2023/09/Esther-WBS-LC-dates-1.jpg
END:VEVENT
BEGIN:VEVENT
DTSTART;TZID=America/Chicago:20231008T183000
DTEND;TZID=America/Chicago:20231008T190000
DTSTAMP:20260420T230612
CREATED:20231005T223043Z
LAST-MODIFIED:20231005T223043Z
UID:8798-1696789800-1696791600@oursaviorschurch.com
SUMMARY:Intro to Serve
DESCRIPTION:Immediately following service in the Multipurpose Room
URL:https://oursaviorschurch.com/event/intro-to-serve-4/2023-10-08/
CATEGORIES:Abbeville
ATTACH;FMTTYPE=image/png:https://oursaviorschurch.com/wp-content/uploads/2023/07/2.png
END:VEVENT
BEGIN:VEVENT
DTSTART;TZID=America/Chicago:20231011T070000
DTEND;TZID=America/Chicago:20231011T080000
DTSTAMP:20260420T230612
CREATED:20231010T174106Z
LAST-MODIFIED:20240202T231359Z
UID:8911-1697007600-1697011200@oursaviorschurch.com
SUMMARY:Men's Bible Study
DESCRIPTION:Wednesdays @ 7am @ KK’s Cafe \n905 Savoy Rd\, Youngsville\, LA 70592
URL:https://oursaviorschurch.com/event/mens-bible-study-2/
LOCATION:KK’s Cafe\, 905 Savoy Rd\, Youngsville\, 70592\, United States
CATEGORIES:Youngsville
ATTACH;FMTTYPE=image/jpeg:https://oursaviorschurch.com/wp-content/uploads/2023/10/MBS.jpeg
END:VEVENT
BEGIN:VEVENT
DTSTART;TZID=America/Chicago:20231022T100000
DTEND;TZID=America/Chicago:20231022T223000
DTSTAMP:20260420T230612
CREATED:20230720T180436Z
LAST-MODIFIED:20230817T011403Z
UID:7811-1697968800-1698013800@oursaviorschurch.com
SUMMARY:Water Baptism
DESCRIPTION:Register Here! \n  \nhttps://oscfamily.ccbchurch.com/goto/forms/607/responses/new
URL:https://oursaviorschurch.com/event/water-baptism-3/2023-10-22/
CATEGORIES:Youngsville
ATTACH;FMTTYPE=image/png:https://oursaviorschurch.com/wp-content/uploads/2023/07/3.png
END:VEVENT
BEGIN:VEVENT
DTSTART;TZID=America/Chicago:20231031T173000
DTEND;TZID=America/Chicago:20231031T200000
DTSTAMP:20260420T230612
CREATED:20230915T175701Z
LAST-MODIFIED:20230915T175701Z
UID:8574-1698773400-1698782400@oursaviorschurch.com
SUMMARY:Harvest Fest 2023
DESCRIPTION:
URL:https://oursaviorschurch.com/event/harvest-fest-2023/
LOCATION:OSC Lafayette\, 1201 E Broussard Rd\, Lafayette\, LA\, 70508\, United States
CATEGORIES:Abbeville,Lafayette,Youngsville
ATTACH;FMTTYPE=image/jpeg:https://oursaviorschurch.com/wp-content/uploads/2023/09/Harvestfestlook.jpeg
ORGANIZER;CN="OSC%20Lafayette":MAILTO:lafayette@oscfamily.com
END:VEVENT
END:VCALENDAR