BEGIN:VCALENDAR
VERSION:2.0
PRODID:-//Our Savior&#039;s Church - ECPv6.0.13//NONSGML v1.0//EN
CALSCALE:GREGORIAN
METHOD:PUBLISH
X-ORIGINAL-URL:https://oursaviorschurch.com
X-WR-CALDESC:Events for Our Savior&#039;s Church
REFRESH-INTERVAL;VALUE=DURATION:PT1H
X-Robots-Tag:noindex
X-PUBLISHED-TTL:PT1H
BEGIN:VTIMEZONE
TZID:America/Chicago
BEGIN:DAYLIGHT
TZOFFSETFROM:-0600
TZOFFSETTO:-0500
TZNAME:CDT
DTSTART:20220313T080000
END:DAYLIGHT
BEGIN:STANDARD
TZOFFSETFROM:-0500
TZOFFSETTO:-0600
TZNAME:CST
DTSTART:20221106T070000
END:STANDARD
BEGIN:DAYLIGHT
TZOFFSETFROM:-0600
TZOFFSETTO:-0500
TZNAME:CDT
DTSTART:20230312T080000
END:DAYLIGHT
BEGIN:STANDARD
TZOFFSETFROM:-0500
TZOFFSETTO:-0600
TZNAME:CST
DTSTART:20231105T070000
END:STANDARD
BEGIN:DAYLIGHT
TZOFFSETFROM:-0600
TZOFFSETTO:-0500
TZNAME:CDT
DTSTART:20240310T080000
END:DAYLIGHT
BEGIN:STANDARD
TZOFFSETFROM:-0500
TZOFFSETTO:-0600
TZNAME:CST
DTSTART:20241103T070000
END:STANDARD
BEGIN:DAYLIGHT
TZOFFSETFROM:-0600
TZOFFSETTO:-0500
TZNAME:CDT
DTSTART:20250309T080000
END:DAYLIGHT
BEGIN:STANDARD
TZOFFSETFROM:-0500
TZOFFSETTO:-0600
TZNAME:CST
DTSTART:20251102T070000
END:STANDARD
BEGIN:DAYLIGHT
TZOFFSETFROM:-0600
TZOFFSETTO:-0500
TZNAME:CDT
DTSTART:20260308T080000
END:DAYLIGHT
BEGIN:STANDARD
TZOFFSETFROM:-0500
TZOFFSETTO:-0600
TZNAME:CST
DTSTART:20261101T070000
END:STANDARD
END:VTIMEZONE
BEGIN:VEVENT
DTSTART;TZID=America/Chicago:20260414T060000
DTEND;TZID=America/Chicago:20260414T070000
DTSTAMP:20260421T022236
CREATED:20220930T031354Z
LAST-MODIFIED:20220930T031354Z
UID:11935-1776146400-1776150000@oursaviorschurch.com
SUMMARY:Morning Prayer - Opelousas
DESCRIPTION:
URL:https://oursaviorschurch.com/event/morning-prayer/2026-04-14/
LOCATION:OSC Opelousas\, 202 Our Savior's Church Blvd\, Opelousas\, LA\, 70570\, United States
CATEGORIES:Opelousas
ATTACH;FMTTYPE=image/jpeg:https://oursaviorschurch.com/wp-content/uploads/2022/09/morning-prayer-opelousas.jpg
ORGANIZER;CN="OSC%20Opelousas":MAILTO:opelousas@oscfamily.com
END:VEVENT
BEGIN:VEVENT
DTSTART;TZID=America/Chicago:20260327T180000
DTEND;TZID=America/Chicago:20260327T200000
DTSTAMP:20260421T022236
CREATED:20230227T220235Z
LAST-MODIFIED:20230227T220235Z
UID:11768-1774634400-1774641600@oursaviorschurch.com
SUMMARY:Young Adults
DESCRIPTION:
URL:https://oursaviorschurch.com/event/young-adults/2026-03-27/
LOCATION:OSC Opelousas\, 202 Our Savior's Church Blvd\, Opelousas\, LA\, 70570\, United States
CATEGORIES:Opelousas
ATTACH;FMTTYPE=image/jpeg:https://oursaviorschurch.com/wp-content/uploads/2023/02/FF-look-final.jpg
ORGANIZER;CN="OSC%20Opelousas":MAILTO:opelousas@oscfamily.com
END:VEVENT
BEGIN:VEVENT
DTSTART;TZID=America/Chicago:20251022T183000
DTEND;TZID=America/Chicago:20251022T183000
DTSTAMP:20260421T022236
CREATED:20250912T141018Z
LAST-MODIFIED:20251001T193251Z
UID:19107-1761157800-1761157800@oursaviorschurch.com
SUMMARY:Women's Bible Study 2025
DESCRIPTION:Cultivate: Nurturing Divine Friendships is a 4-week women’s Bible study happening every Wednesday night at 6:30pm across all of our campuses. Together we’ll discover what it means to grow deeper in God’s Word while building lasting\, Christ-centered friendships. Find your campus location below and join us as we cultivate faith and community side by side.\n\n\n\n\nAll campuses start 6:30pm\nOct 1\, 8\, 15\, 22\nSee HERE for Location Info for your specific Campus.
URL:https://oursaviorschurch.com/event/womens-bible-study-2025/2025-10-22/
CATEGORIES:Abbeville,Broussard,Lafayette,Midtown,New Iberia,Opelousas,Youngsville
ATTACH;FMTTYPE=image/jpeg:https://oursaviorschurch.com/wp-content/uploads/2025/09/cultivate-sermonscren-scaled.jpg
END:VEVENT
BEGIN:VEVENT
DTSTART;VALUE=DATE:20250801
DTEND;VALUE=DATE:20250901
DTSTAMP:20260421T022236
CREATED:20250724T165824Z
LAST-MODIFIED:20250728T211718Z
UID:18144-1754006400-1756684799@oursaviorschurch.com
SUMMARY:Men's Night - August 2025
DESCRIPTION:Men’s Night is coming to every campus—a powerful gathering of worship\, fellowship\, and a message just for the men of our church. Each location will host its own night\, so check the schedule here for your campus’ date and time.
URL:https://oursaviorschurch.com/event/mens-night-august-2026/
CATEGORIES:Abbeville,Broussard,Lafayette,Midtown,New Iberia,Opelousas,Youngsville
ATTACH;FMTTYPE=image/jpeg:https://oursaviorschurch.com/wp-content/uploads/2025/07/mensnight-Moreinfoscreen.jpg
END:VEVENT
BEGIN:VEVENT
DTSTART;VALUE=DATE:20250525
DTEND;VALUE=DATE:20250526
DTSTAMP:20260421T022236
CREATED:20250514T174715Z
LAST-MODIFIED:20250514T174715Z
UID:17190-1748131200-1748217599@oursaviorschurch.com
SUMMARY:Level Up Sunday
DESCRIPTION:
URL:https://oursaviorschurch.com/event/level-up-sunday/
CATEGORIES:Abbeville,Broussard,Foster Care,Lafayette,Midtown,New Iberia,Opelousas,Youngsville
ATTACH;FMTTYPE=image/jpeg:https://oursaviorschurch.com/wp-content/uploads/2025/05/levelup-screen.jpg
END:VEVENT
BEGIN:VEVENT
DTSTART;VALUE=DATE:20250504
DTEND;VALUE=DATE:20250505
DTSTAMP:20260421T022236
CREATED:20250327T170327Z
LAST-MODIFIED:20250327T170455Z
UID:16405-1746316800-1746403199@oursaviorschurch.com
SUMMARY:NextGen Sunday
DESCRIPTION:
URL:https://oursaviorschurch.com/event/nextgen-sunday/
CATEGORIES:Abbeville,Broussard,Lafayette,Midtown,New Iberia,Opelousas,Youngsville
ATTACH;FMTTYPE=image/jpeg:https://oursaviorschurch.com/wp-content/uploads/2025/03/nextgensunday1-1.jpg
END:VEVENT
BEGIN:VEVENT
DTSTART;TZID=America/Chicago:20250115T060000
DTEND;TZID=America/Chicago:20250115T070000
DTSTAMP:20260421T022236
CREATED:20241105T205635Z
LAST-MODIFIED:20241105T205635Z
UID:14106-1736920800-1736924400@oursaviorschurch.com
SUMMARY:Men's Bible Study
DESCRIPTION:
URL:https://oursaviorschurch.com/event/mens-bible-study-7/2025-01-15/
CATEGORIES:Opelousas
ATTACH;FMTTYPE=image/jpeg:https://oursaviorschurch.com/wp-content/uploads/2022/11/mens-event.jpg
END:VEVENT
BEGIN:VEVENT
DTSTART;TZID=America/Chicago:20241112T060000
DTEND;TZID=America/Chicago:20241112T070000
DTSTAMP:20260421T022236
CREATED:20220930T031354Z
LAST-MODIFIED:20221118T031420Z
UID:4224-1731391200-1731394800@oursaviorschurch.com
SUMMARY:Morning Prayer - Opelousas
DESCRIPTION:
URL:https://oursaviorschurch.com/event/morning-prayer-2024-11-12/
LOCATION:OSC Opelousas\, 202 Our Savior's Church Blvd\, Opelousas\, LA\, 70570\, United States
CATEGORIES:Opelousas
ATTACH;FMTTYPE=image/jpeg:https://oursaviorschurch.com/wp-content/uploads/2022/09/morning-prayer-opelousas.jpg
ORGANIZER;CN="OSC%20Opelousas":MAILTO:opelousas@oscfamily.com
END:VEVENT
BEGIN:VEVENT
DTSTART;TZID=America/Chicago:20241011T180000
DTEND;TZID=America/Chicago:20241011T200000
DTSTAMP:20260421T022236
CREATED:20241002T212202Z
LAST-MODIFIED:20241002T214652Z
UID:13677-1728669600-1728676800@oursaviorschurch.com
SUMMARY:Men's Night
DESCRIPTION:Calling all men across Acadiana!  Join us next Friday for the STRONG Men’s Conference happening at our Lafayette\, New Iberia and Opelousas campuses. This is your moment to grow stronger in faith and fellowship. Invite your brothers\, fathers\, and friends—let’s get stronger together!
URL:https://oursaviorschurch.com/event/mens-night/
CATEGORIES:Lafayette,New Iberia,Opelousas
ATTACH;FMTTYPE=image/jpeg:https://oursaviorschurch.com/wp-content/uploads/2024/10/mensconf-2024-1920x1080-1.jpg
END:VEVENT
BEGIN:VEVENT
DTSTART;TZID=America/Chicago:20241003T183000
DTEND;TZID=America/Chicago:20241003T203000
DTSTAMP:20260421T022236
CREATED:20241002T212846Z
LAST-MODIFIED:20241002T213530Z
UID:13681-1727980200-1727987400@oursaviorschurch.com
SUMMARY:Women's Bible Study
DESCRIPTION:Ladies!  Our Women’s Bible Study kicks off next Thursday\, October 3rd\, at 6:30 PM and runs for 4 weeks! Grab your girls\, clear your Thursdays\, and join us for an uplifting time. We’ve got 5 locations across Acadiana (LAFAYETTE • OPELOUSAS • MIDTOWN • BROUSSARD\n• NEW IBERIA) and childcare’s covered!  Can’t wait to see you!
URL:https://oursaviorschurch.com/event/womens-bible-study-4/
CATEGORIES:Broussard,Lafayette,Midtown,New Iberia,Opelousas
ATTACH;FMTTYPE=image/jpeg:https://oursaviorschurch.com/wp-content/uploads/2024/10/WBS-fallsession-GenScreen-1.jpg
END:VEVENT
BEGIN:VEVENT
DTSTART;VALUE=DATE:20240713
DTEND;VALUE=DATE:20240714
DTSTAMP:20260421T022236
CREATED:20240702T215628Z
LAST-MODIFIED:20240702T220731Z
UID:12700-1720828800-1720915199@oursaviorschurch.com
SUMMARY:Serve Day 2024
DESCRIPTION:Serve Day is July 13\, 2024\n\n\n\n\nSign-Up Below & Join Your Campus!\n\n\n\n\n\n\n\n\n\n\n\n\n  \nBroussard\nMeeting Location:\nBreaux Bridge Jr. High\n100 Martin Street\, Breaux Bridge\, LA \nTime:\n8:00 a.m. – 2:00 p.m.\nSign-Up \n  \nLafayette\, Midtown & Abbeville\nMeeting Location:\nGirard Park Rec Center\, 500 Girard Park Drive\, Lafayette\, LA \nTime:\n8:00 a.m. – 2:00 p.m.\nSign-Up \n  \nYoungsville\nMeeting Location:\nFoster Memorial Park\n399 4th Street\, Youngsville\, LA \nTime:\n8:00 a.m. – 2:00 p.m.\nSign-Up \n  \nNew Iberia\nMeeting Location on July 13:\nBoys & Girls Club\n430 E. Pershing Street\, New Iberia\, LA \nTime:\n8:00 a.m. – 2:00 p.m. \nSign-Up \nAND \nMeeting Location on July 27:\nACS\, 4219 E. Admiral Doyle Dr.\, New Iberia\, LA \nTime:\n8:00 a.m. – 2:00 p.m. \nSign-Up \n  \nOpelousas\nMeeting Location:\nOSC-Opelousas Campus\n202 Our Savior’s Church Blvd.\, Opelousas\, LA \nTime:\n8:00 a.m. – Noon\nSign-Up
URL:https://oursaviorschurch.com/event/serve-day-2024/
CATEGORIES:Abbeville,Broussard,Lafayette,Midtown,New Iberia,Opelousas,Youngsville
ATTACH;FMTTYPE=image/jpeg:https://oursaviorschurch.com/wp-content/uploads/2023/05/Serveday-signupGeneric-serve-team-1.jpg
END:VEVENT
BEGIN:VEVENT
DTSTART;TZID=America/Chicago:20240503T080000
DTEND;TZID=America/Chicago:20240503T170000
DTSTAMP:20260421T022236
CREATED:20240409T111313Z
LAST-MODIFIED:20240409T111313Z
UID:11897-1714723200-1714755600@oursaviorschurch.com
SUMMARY:OSC Men's Golf Tournament - 2024
DESCRIPTION:REGISTER HERE! \nFriday\, May 3rd @ 8:00 am\nLes Vieux Chênes Golf Course\n340 Old Youngsville Hwy\nYoungsville\, LA 70592
URL:https://oursaviorschurch.com/event/osc-mens-golf-tournament-2024/
CATEGORIES:Abbeville,Broussard,Lafayette,Midtown,New Iberia,Opelousas,Youngsville
ATTACH;FMTTYPE=image/jpeg:https://oursaviorschurch.com/wp-content/uploads/2024/04/Screen-6.jpg
END:VEVENT
BEGIN:VEVENT
DTSTART;TZID=America/Chicago:20240115T183000
DTEND;TZID=America/Chicago:20240117T083000
DTSTAMP:20260421T022236
CREATED:20240105T202645Z
LAST-MODIFIED:20240115T161445Z
UID:10250-1705343400-1705480200@oursaviorschurch.com
SUMMARY:Spiritual Renewal 2024
DESCRIPTION:Dates: \nJanuary 15th – 17th \nTime: \n6:30pm \nLocations: \nLafayette Campus\, Opelousas Campus\, New Iberia Campus \n\n\n\n\nIgnite Your Faith at Spiritual Renewal 2024! Spark a powerful transformation in your spiritual journey from January 15th to 17th as we gather at our Lafayette\, Opelousas\, and New Iberia campuses. \nImmerse yourself in Spirit-filled messages and powerful worship sessions that promise to rejuvenate and strengthen your faith. Beginning each evening at 6:30 pm\, this event is open to everyone\, so bring your friends and family to share in this experience!
URL:https://oursaviorschurch.com/event/spiritual-renewal-2024/2024-01-15/
LOCATION:OSC Lafayette\, 1201 E Broussard Rd\, Lafayette\, LA\, 70508\, United States
CATEGORIES:Abbeville,Lafayette,New Iberia,Opelousas
ATTACH;FMTTYPE=image/jpeg:https://oursaviorschurch.com/wp-content/uploads/2023/12/SR-Blue-dates-locations.jpg
END:VEVENT
BEGIN:VEVENT
DTSTART;TZID=America/Chicago:20240108T060000
DTEND;TZID=America/Chicago:20240112T070000
DTSTAMP:20260421T022236
CREATED:20240105T203901Z
LAST-MODIFIED:20240109T222230Z
UID:10263-1704693600-1705042800@oursaviorschurch.com
SUMMARY:Prayer & Fasting 2024
DESCRIPTION:Join your campus January 8th – 12th for a time a prayer in preparation for Spiritual Renewal – Youngsville & Abbeville will be joining the Lafayette campus.
URL:https://oursaviorschurch.com/event/prayer-fasting-2024-2/
CATEGORIES:Abbeville,Broussard,Lafayette,Midtown,Opelousas,Youngsville
ATTACH;FMTTYPE=image/jpeg:https://oursaviorschurch.com/wp-content/uploads/2023/12/PF-green.jpg
END:VEVENT
BEGIN:VEVENT
DTSTART;TZID=America/Chicago:20231004T183000
DTEND;TZID=America/Chicago:20231004T203000
DTSTAMP:20260421T022236
CREATED:20230922T211058Z
LAST-MODIFIED:20230922T211528Z
UID:8697-1696444200-1696451400@oursaviorschurch.com
SUMMARY:Women's Bible Study
DESCRIPTION:Join us on Wednesdays from October 4th to October 25th\, at 6:30pm at the Opelousas Campus as Mrs. Heidi Reiszner will be teaching! \nChildcare from 0-5 years old is provided.
URL:https://oursaviorschurch.com/event/womens-bible-study-2/2023-10-04/
LOCATION:OSC Opelousas\, 202 Our Savior's Church Blvd\, Opelousas\, LA\, 70570\, United States
CATEGORIES:Opelousas
ATTACH;FMTTYPE=image/jpeg:https://oursaviorschurch.com/wp-content/uploads/2023/09/Esther-WBS-OC-dates-1.jpg
END:VEVENT
BEGIN:VEVENT
DTSTART;VALUE=DATE:20230726
DTEND;VALUE=DATE:20230728
DTSTAMP:20260421T022236
CREATED:20230316T180120Z
LAST-MODIFIED:20230316T200723Z
UID:6013-1690329600-1690502399@oursaviorschurch.com
SUMMARY:High School Conference (Save The Date)
DESCRIPTION:
URL:https://oursaviorschurch.com/event/high-school-conference-save-the-date/
LOCATION:OSC Lafayette\, 1201 E Broussard Rd\, Lafayette\, LA\, 70508\, United States
CATEGORIES:Broussard,Lafayette,Midtown,New Iberia,Opelousas,Youngsville
ATTACH;FMTTYPE=image/jpeg:https://oursaviorschurch.com/wp-content/uploads/2022/10/midtown-worship.jpg
ORGANIZER;CN="Our%20Savior%27s%20Church":MAILTO:info@oscfamily.com
END:VEVENT
BEGIN:VEVENT
DTSTART;VALUE=DATE:20230710
DTEND;VALUE=DATE:20230713
DTSTAMP:20260421T022236
CREATED:20230316T180236Z
LAST-MODIFIED:20230316T180236Z
UID:6016-1688947200-1689206399@oursaviorschurch.com
SUMMARY:Middle School Camp (Save The Date)
DESCRIPTION:
URL:https://oursaviorschurch.com/event/middle-school-camp-save-the-date/
LOCATION:OSC Broussard\, 655 Highway 96\, Broussard\, LA\, 70518\, United States
CATEGORIES:Broussard,Lafayette,Midtown,New Iberia,Opelousas,Youngsville
ATTACH;FMTTYPE=image/jpeg:https://oursaviorschurch.com/wp-content/uploads/2022/11/KidsCamp-Day4-40-scaled.jpg
ORGANIZER;CN="Our%20Savior%27s%20Church":MAILTO:info@oscfamily.com
END:VEVENT
BEGIN:VEVENT
DTSTART;TZID=America/Chicago:20230627T080000
DTEND;TZID=America/Chicago:20230630T160000
DTSTAMP:20260421T022236
CREATED:20230224T190918Z
LAST-MODIFIED:20230316T200210Z
UID:5771-1687852800-1688140800@oursaviorschurch.com
SUMMARY:Kids Camp
DESCRIPTION:
URL:https://oursaviorschurch.com/event/kids-camp/
LOCATION:OSC Broussard\, 655 Highway 96\, Broussard\, LA\, 70518\, United States
CATEGORIES:Broussard,Lafayette,Midtown,New Iberia,Opelousas,Youngsville
ATTACH;FMTTYPE=image/jpeg:https://oursaviorschurch.com/wp-content/uploads/2023/02/kidscamp-generic.jpg
ORGANIZER;CN="Our%20Savior%27s%20Church":MAILTO:info@oscfamily.com
END:VEVENT
BEGIN:VEVENT
DTSTART;TZID=America/Chicago:20230504T183000
DTEND;TZID=America/Chicago:20230504T200000
DTSTAMP:20260421T022236
CREATED:20230227T220235Z
LAST-MODIFIED:20230417T192639Z
UID:5785-1683225000-1683230400@oursaviorschurch.com
SUMMARY:Young Adults
DESCRIPTION:
URL:https://oursaviorschurch.com/event/young-adults-2023-05-05/
LOCATION:OSC Opelousas\, 202 Our Savior's Church Blvd\, Opelousas\, LA\, 70570\, United States
CATEGORIES:Opelousas
ATTACH;FMTTYPE=image/jpeg:https://oursaviorschurch.com/wp-content/uploads/2023/02/FF-look-final.jpg
ORGANIZER;CN="OSC%20Opelousas":MAILTO:opelousas@oscfamily.com
END:VEVENT
BEGIN:VEVENT
DTSTART;VALUE=DATE:20230226
DTEND;VALUE=DATE:20230227
DTSTAMP:20260421T022236
CREATED:20230219T022949Z
LAST-MODIFIED:20230219T022949Z
UID:5718-1677369600-1677455999@oursaviorschurch.com
SUMMARY:Baptism
DESCRIPTION:Sign up in person at the Welcome Center!
URL:https://oursaviorschurch.com/event/baptism-2/
LOCATION:OSC Opelousas\, 202 Our Savior's Church Blvd\, Opelousas\, LA\, 70570\, United States
CATEGORIES:Opelousas
ATTACH;FMTTYPE=image/jpeg:https://oursaviorschurch.com/wp-content/uploads/2022/10/youngsville-baptism.jpg
END:VEVENT
BEGIN:VEVENT
DTSTART;TZID=America/Chicago:20230123T180000
DTEND;TZID=America/Chicago:20230123T193000
DTSTAMP:20260421T022236
CREATED:20230113T224730Z
LAST-MODIFIED:20230113T225423Z
UID:5295-1674496800-1674502200@oursaviorschurch.com
SUMMARY:Foster Care Info Meeting
DESCRIPTION:
URL:https://oursaviorschurch.com/event/foster-op/
LOCATION:OSC Opelousas\, 202 Our Savior's Church Blvd\, Opelousas\, LA\, 70570\, United States
CATEGORIES:Foster Care,Opelousas
ATTACH;FMTTYPE=image/jpeg:https://oursaviorschurch.com/wp-content/uploads/2023/01/Foster-Event.jpg
END:VEVENT
BEGIN:VEVENT
DTSTART;VALUE=DATE:20230116
DTEND;VALUE=DATE:20230119
DTSTAMP:20260421T022236
CREATED:20221228T230124Z
LAST-MODIFIED:20230109T212747Z
UID:5011-1673827200-1674086399@oursaviorschurch.com
SUMMARY:Spiritual Renewal
DESCRIPTION:Are you feeling a little burnt out and in need of some spiritual renewal? Our annual Spiritual Renewal conference is just around the corner and we would love to see you there! \nJoin us at any of our 3 campuses in New Iberia\, Lafayette\, and Opelousas at 6:30 pm from January 16-18 for an uplifting and rejuvenating experience. \nWe’ve got a great lineup of speakers and worship planned\, so mark your calendars and don’t miss out on this special event. All are welcome\, so bring your friends and family along too. \nWe hope to see you there as we seek spiritual renewal together!
URL:https://oursaviorschurch.com/event/spiritual-renewal-23/
CATEGORIES:Broussard,Lafayette,Midtown,New Iberia,Opelousas,Youngsville
ATTACH;FMTTYPE=image/jpeg:https://oursaviorschurch.com/wp-content/uploads/2022/12/Spiritual-Renewal-dates.jpg
ORGANIZER;CN="Our%20Savior%27s%20Church":MAILTO:info@oscfamily.com
END:VEVENT
BEGIN:VEVENT
DTSTART;VALUE=DATE:20230109
DTEND;VALUE=DATE:20230114
DTSTAMP:20260421T022236
CREATED:20230101T200442Z
LAST-MODIFIED:20230104T204939Z
UID:5045-1673222400-1673654399@oursaviorschurch.com
SUMMARY:Prayer & Fasting
DESCRIPTION:Click here to learn more about our upcoming prayer & fasting services coming up!
URL:https://oursaviorschurch.com/event/prayer-fasting/
CATEGORIES:Broussard,Lafayette,Midtown,Opelousas
ATTACH;FMTTYPE=image/jpeg:https://oursaviorschurch.com/wp-content/uploads/2023/01/prayerfasting-2023-dates.jpg
ORGANIZER;CN="Our%20Savior%27s%20Church":MAILTO:info@oscfamily.com
END:VEVENT
BEGIN:VEVENT
DTSTART;VALUE=DATE:20221224
DTEND;VALUE=DATE:20221226
DTSTAMP:20260421T022236
CREATED:20221206T170552Z
LAST-MODIFIED:20221206T171101Z
UID:4706-1671840000-1672012799@oursaviorschurch.com
SUMMARY:Christmas at OSC
DESCRIPTION:We invite you and your family to join us for our Christmas services this year! This is a special time of year when we celebrate the birth of Jesus\, and we would love for you to be a part of it. \nTo find a service time that works for you and your family\, click this link!
URL:https://oursaviorschurch.com/event/christmas-at-osc/
CATEGORIES:Broussard,Lafayette,Midtown,New Iberia,Opelousas
ATTACH;FMTTYPE=image/jpeg:https://oursaviorschurch.com/wp-content/uploads/2022/12/xmas2022.jpg
ORGANIZER;CN="Our%20Savior%27s%20Church":MAILTO:info@oscfamily.com
END:VEVENT
BEGIN:VEVENT
DTSTART;TZID=America/Chicago:20220922T183000
DTEND;TZID=America/Chicago:20220922T203000
DTSTAMP:20260421T022236
CREATED:20221011T001748Z
LAST-MODIFIED:20221112T035304Z
UID:2971-1663871400-1663878600@oursaviorschurch.com
SUMMARY:Women's Bible Study: HisStory
DESCRIPTION:Women’s Bible Study with Mrs. Michelle Aranza & Hailey Stroderd. Every Thursday at 6:30 pm from September 22 – October 28. \nCheck out the most recent messages from Women’s Bible Study!
URL:https://oursaviorschurch.com/event/womens-bible-study-hisstory/2022-09-22/
LOCATION:OSC Lafayette\, 1201 E Broussard Rd\, Lafayette\, LA\, 70508\, United States
CATEGORIES:Broussard,Lafayette,Midtown,New Iberia,Opelousas
ATTACH;FMTTYPE=image/jpeg:https://oursaviorschurch.com/wp-content/uploads/2022/10/wbs-hisstory.jpg
ORGANIZER;CN="OSC%20Lafayette":MAILTO:lafayette@oscfamily.com
END:VEVENT
BEGIN:VEVENT
DTSTART;VALUE=DATE:20220828
DTEND;VALUE=DATE:20221128
DTSTAMP:20260421T022236
CREATED:20221011T001038Z
LAST-MODIFIED:20221011T001038Z
UID:2968-1661644800-1669593599@oursaviorschurch.com
SUMMARY:Small Groups Fall 2022
DESCRIPTION:Our next semester of Small Groups is about to begin!\nLaunch Date – August 28th!
URL:https://oursaviorschurch.com/event/small-groups-fall-2022/
LOCATION:Our Savior’s Church
CATEGORIES:Broussard,Lafayette,Midtown,New Iberia,Opelousas
ATTACH;FMTTYPE=image/jpeg:https://oursaviorschurch.com/wp-content/uploads/sermons/2022/10/small-groups-2022-series.jpg
ORGANIZER;CN="Our%20Savior%27s%20Church":MAILTO:info@oscfamily.com
END:VEVENT
END:VCALENDAR