BEGIN:VCALENDAR
VERSION:2.0
PRODID:-//Our Savior&#039;s Church - ECPv6.0.13//NONSGML v1.0//EN
CALSCALE:GREGORIAN
METHOD:PUBLISH
X-ORIGINAL-URL:https://oursaviorschurch.com
X-WR-CALDESC:Events for Our Savior&#039;s Church
REFRESH-INTERVAL;VALUE=DURATION:PT1H
X-Robots-Tag:noindex
X-PUBLISHED-TTL:PT1H
BEGIN:VTIMEZONE
TZID:America/Chicago
BEGIN:DAYLIGHT
TZOFFSETFROM:-0600
TZOFFSETTO:-0500
TZNAME:CDT
DTSTART:20260308T080000
END:DAYLIGHT
BEGIN:STANDARD
TZOFFSETFROM:-0500
TZOFFSETTO:-0600
TZNAME:CST
DTSTART:20261101T070000
END:STANDARD
END:VTIMEZONE
BEGIN:VEVENT
DTSTART;TZID=America/Chicago:20260306T063000
DTEND;TZID=America/Chicago:20260306T073000
DTSTAMP:20260420T215522
CREATED:20221108T035427Z
LAST-MODIFIED:20221108T035427Z
UID:11498-1772778600-1772782200@oursaviorschurch.com
SUMMARY:Men's Bible Study
DESCRIPTION:
URL:https://oursaviorschurch.com/event/mens-bible-study/2026-03-06/
LOCATION:OSC Midtown\, 101 Marie Antoinette\, Lafayette\, LA\, 70506\, United States
CATEGORIES:Midtown
ATTACH;FMTTYPE=image/jpeg:https://oursaviorschurch.com/wp-content/uploads/2022/11/mens-event.jpg
END:VEVENT
BEGIN:VEVENT
DTSTART;TZID=America/Chicago:20260311T180000
DTEND;TZID=America/Chicago:20260311T193000
DTSTAMP:20260420T215522
CREATED:20260123T220946Z
LAST-MODIFIED:20260123T221002Z
UID:21942-1773252000-1773257400@oursaviorschurch.com
SUMMARY:Women's Bible Study
DESCRIPTION:Join us every second Wednesday of the month @ 6:00 pm \n101 Marie Antoinette St \nLafayette 70506
URL:https://oursaviorschurch.com/event/womens-bible-study-6/2026-03-11/
CATEGORIES:Midtown
ATTACH;FMTTYPE=image/png:https://oursaviorschurch.com/wp-content/uploads/2023/09/Screenshot-2023-09-20-at-5.08.50-AM.png
END:VEVENT
BEGIN:VEVENT
DTSTART;TZID=America/Chicago:20260313T063000
DTEND;TZID=America/Chicago:20260313T073000
DTSTAMP:20260420T215522
CREATED:20221108T035427Z
LAST-MODIFIED:20221108T035427Z
UID:11567-1773383400-1773387000@oursaviorschurch.com
SUMMARY:Men's Bible Study
DESCRIPTION:
URL:https://oursaviorschurch.com/event/mens-bible-study/2026-03-13/
LOCATION:OSC Midtown\, 101 Marie Antoinette\, Lafayette\, LA\, 70506\, United States
CATEGORIES:Midtown
ATTACH;FMTTYPE=image/jpeg:https://oursaviorschurch.com/wp-content/uploads/2022/11/mens-event.jpg
END:VEVENT
BEGIN:VEVENT
DTSTART;TZID=America/Chicago:20260320T063000
DTEND;TZID=America/Chicago:20260320T073000
DTSTAMP:20260420T215522
CREATED:20221108T035427Z
LAST-MODIFIED:20221108T035427Z
UID:11684-1773988200-1773991800@oursaviorschurch.com
SUMMARY:Men's Bible Study
DESCRIPTION:
URL:https://oursaviorschurch.com/event/mens-bible-study/2026-03-20/
LOCATION:OSC Midtown\, 101 Marie Antoinette\, Lafayette\, LA\, 70506\, United States
CATEGORIES:Midtown
ATTACH;FMTTYPE=image/jpeg:https://oursaviorschurch.com/wp-content/uploads/2022/11/mens-event.jpg
END:VEVENT
BEGIN:VEVENT
DTSTART;TZID=America/Chicago:20260327T063000
DTEND;TZID=America/Chicago:20260327T073000
DTSTAMP:20260420T215522
CREATED:20221108T035427Z
LAST-MODIFIED:20221108T035427Z
UID:11767-1774593000-1774596600@oursaviorschurch.com
SUMMARY:Men's Bible Study
DESCRIPTION:
URL:https://oursaviorschurch.com/event/mens-bible-study/2026-03-27/
LOCATION:OSC Midtown\, 101 Marie Antoinette\, Lafayette\, LA\, 70506\, United States
CATEGORIES:Midtown
ATTACH;FMTTYPE=image/jpeg:https://oursaviorschurch.com/wp-content/uploads/2022/11/mens-event.jpg
END:VEVENT
END:VCALENDAR