BEGIN:VCALENDAR
VERSION:2.0
PRODID:-//Our Savior&#039;s Church - ECPv6.0.13//NONSGML v1.0//EN
CALSCALE:GREGORIAN
METHOD:PUBLISH
X-ORIGINAL-URL:https://oursaviorschurch.com
X-WR-CALDESC:Events for Our Savior&#039;s Church
REFRESH-INTERVAL;VALUE=DURATION:PT1H
X-Robots-Tag:noindex
X-PUBLISHED-TTL:PT1H
BEGIN:VTIMEZONE
TZID:America/Chicago
BEGIN:DAYLIGHT
TZOFFSETFROM:-0600
TZOFFSETTO:-0500
TZNAME:CDT
DTSTART:20260308T080000
END:DAYLIGHT
BEGIN:STANDARD
TZOFFSETFROM:-0500
TZOFFSETTO:-0600
TZNAME:CST
DTSTART:20261101T070000
END:STANDARD
END:VTIMEZONE
BEGIN:VEVENT
DTSTART;VALUE=DATE:20260419
DTEND;VALUE=DATE:20260420
DTSTAMP:20260419T234904
CREATED:20260320T212835Z
LAST-MODIFIED:20260320T212918Z
UID:23387-1776556800-1776643199@oursaviorschurch.com
SUMMARY:Child Dedication
DESCRIPTION:On the 3rd Sundays of the month following the 11:30 service.\nLink here to register!
URL:https://oursaviorschurch.com/event/child-dedication-4/2026-04-19/
CATEGORIES:Broussard
ATTACH;FMTTYPE=image/jpeg:https://oursaviorschurch.com/wp-content/uploads/2025/09/Child-Dedications-Screen-title-2-1.jpg
END:VEVENT
BEGIN:VEVENT
DTSTART;TZID=America/Chicago:20260420T060000
DTEND;TZID=America/Chicago:20260420T190000
DTSTAMP:20260419T234904
CREATED:20260129T205218Z
LAST-MODIFIED:20260129T205218Z
UID:22352-1776664800-1776711600@oursaviorschurch.com
SUMMARY:Morning Prayer
DESCRIPTION:
URL:https://oursaviorschurch.com/event/morning-prayer-2/2026-04-20/
CATEGORIES:Broussard
ATTACH;FMTTYPE=image/jpeg:https://oursaviorschurch.com/wp-content/uploads/2022/09/morning-prayer-opelousas.jpg
END:VEVENT
BEGIN:VEVENT
DTSTART;TZID=America/Chicago:20260425T080000
DTEND;TZID=America/Chicago:20260425T100000
DTSTAMP:20260419T234904
CREATED:20221108T035839Z
LAST-MODIFIED:20221108T035839Z
UID:12043-1777104000-1777111200@oursaviorschurch.com
SUMMARY:Men's Community Breakfast
DESCRIPTION:Every 4th Saturday of the month from 8am-10am at The Hope Center in St. Martinville
URL:https://oursaviorschurch.com/event/mens-community-breakfast/2026-04-25/
LOCATION:The Hope Center\, 115 E Bridge St\, St. Martinville\, LA\, 70582\, United States
CATEGORIES:Broussard
ATTACH;FMTTYPE=image/jpeg:https://oursaviorschurch.com/wp-content/uploads/2022/11/mens-event.jpg
END:VEVENT
BEGIN:VEVENT
DTSTART;TZID=America/Chicago:20260426T100000
DTEND;TZID=America/Chicago:20260426T103000
DTSTAMP:20260419T234904
CREATED:20260320T213523Z
LAST-MODIFIED:20260320T213523Z
UID:23402-1777197600-1777199400@oursaviorschurch.com
SUMMARY:Water Baptism
DESCRIPTION:Held on the 4th Sunday of the month at the 10:00am service\nSign up here!
URL:https://oursaviorschurch.com/event/water-baptism-11/2026-04-26/
CATEGORIES:Broussard
ATTACH;FMTTYPE=image/jpeg:https://oursaviorschurch.com/wp-content/uploads/2025/08/Baptisms-gen.jpg
END:VEVENT
BEGIN:VEVENT
DTSTART;TZID=America/Chicago:20260427T060000
DTEND;TZID=America/Chicago:20260427T190000
DTSTAMP:20260419T234904
CREATED:20260129T205218Z
LAST-MODIFIED:20260129T205218Z
UID:22353-1777269600-1777316400@oursaviorschurch.com
SUMMARY:Morning Prayer
DESCRIPTION:
URL:https://oursaviorschurch.com/event/morning-prayer-2/2026-04-27/
CATEGORIES:Broussard
ATTACH;FMTTYPE=image/jpeg:https://oursaviorschurch.com/wp-content/uploads/2022/09/morning-prayer-opelousas.jpg
END:VEVENT
END:VCALENDAR