BEGIN:VCALENDAR
VERSION:2.0
PRODID:-//Our Savior&#039;s Church - ECPv6.0.13//NONSGML v1.0//EN
CALSCALE:GREGORIAN
METHOD:PUBLISH
X-WR-CALNAME:Our Savior&#039;s Church
X-ORIGINAL-URL:https://oursaviorschurch.com
X-WR-CALDESC:Events for Our Savior&#039;s Church
REFRESH-INTERVAL;VALUE=DURATION:PT1H
X-Robots-Tag:noindex
X-PUBLISHED-TTL:PT1H
BEGIN:VTIMEZONE
TZID:America/Chicago
BEGIN:DAYLIGHT
TZOFFSETFROM:-0600
TZOFFSETTO:-0500
TZNAME:CDT
DTSTART:20260308T080000
END:DAYLIGHT
BEGIN:STANDARD
TZOFFSETFROM:-0500
TZOFFSETTO:-0600
TZNAME:CST
DTSTART:20261101T070000
END:STANDARD
END:VTIMEZONE
BEGIN:VEVENT
DTSTART;TZID=America/Chicago:20260701T180000
DTEND;TZID=America/Chicago:20260701T190000
DTSTAMP:20260421T022258
CREATED:20260129T204750Z
LAST-MODIFIED:20260418T012556Z
UID:22236-1782928800-1782932400@oursaviorschurch.com
SUMMARY:Growing in Prayer
DESCRIPTION:
URL:https://oursaviorschurch.com/event/growing-in-prayer-3/2026-07-01/
CATEGORIES:Broussard
ATTACH;FMTTYPE=image/png:https://oursaviorschurch.com/wp-content/uploads/2022/09/Growing-in-Prayer-New-FB.png
END:VEVENT
BEGIN:VEVENT
DTSTART;VALUE=DATE:20260705
DTEND;VALUE=DATE:20260706
DTSTAMP:20260421T022258
CREATED:20260320T214059Z
LAST-MODIFIED:20260320T214341Z
UID:23429-1783209600-1783295999@oursaviorschurch.com
SUMMARY:Intro to Next Steps
DESCRIPTION:Intro to Next Steps – 1st Sunday of every month immediately following the 10am service
URL:https://oursaviorschurch.com/event/intro-to-next-steps-4/2026-07-05/
CATEGORIES:Broussard
ATTACH;FMTTYPE=image/jpeg:https://oursaviorschurch.com/wp-content/uploads/2026/03/Next-Steps.jpg
END:VEVENT
BEGIN:VEVENT
DTSTART;TZID=America/Chicago:20260706T060000
DTEND;TZID=America/Chicago:20260706T190000
DTSTAMP:20260421T022258
CREATED:20260129T205218Z
LAST-MODIFIED:20260129T205218Z
UID:22363-1783317600-1783364400@oursaviorschurch.com
SUMMARY:Morning Prayer
DESCRIPTION:
URL:https://oursaviorschurch.com/event/morning-prayer-2/2026-07-06/
CATEGORIES:Broussard
ATTACH;FMTTYPE=image/jpeg:https://oursaviorschurch.com/wp-content/uploads/2022/09/morning-prayer-opelousas.jpg
END:VEVENT
BEGIN:VEVENT
DTSTART;TZID=America/Chicago:20260708T180000
DTEND;TZID=America/Chicago:20260708T190000
DTSTAMP:20260421T022258
CREATED:20260129T204750Z
LAST-MODIFIED:20260418T012557Z
UID:22238-1783533600-1783537200@oursaviorschurch.com
SUMMARY:Growing in Prayer
DESCRIPTION:
URL:https://oursaviorschurch.com/event/growing-in-prayer-3/2026-07-08/
CATEGORIES:Broussard
ATTACH;FMTTYPE=image/png:https://oursaviorschurch.com/wp-content/uploads/2022/09/Growing-in-Prayer-New-FB.png
END:VEVENT
BEGIN:VEVENT
DTSTART;VALUE=DATE:20260712
DTEND;VALUE=DATE:20260713
DTSTAMP:20260421T022258
CREATED:20260320T214454Z
LAST-MODIFIED:20260320T214454Z
UID:23477-1783814400-1783900799@oursaviorschurch.com
SUMMARY:Intro to Serve
DESCRIPTION:Intro to Serve – 2nd Sunday of every month immediately following the 10am service
URL:https://oursaviorschurch.com/event/intro-to-serve-9/2026-07-12/
CATEGORIES:Broussard
ATTACH;FMTTYPE=image/jpeg:https://oursaviorschurch.com/wp-content/uploads/2026/03/Intro-to-Serve.jpg
END:VEVENT
BEGIN:VEVENT
DTSTART;TZID=America/Chicago:20260713T060000
DTEND;TZID=America/Chicago:20260713T190000
DTSTAMP:20260421T022258
CREATED:20260129T205218Z
LAST-MODIFIED:20260129T205218Z
UID:22364-1783922400-1783969200@oursaviorschurch.com
SUMMARY:Morning Prayer
DESCRIPTION:
URL:https://oursaviorschurch.com/event/morning-prayer-2/2026-07-13/
CATEGORIES:Broussard
ATTACH;FMTTYPE=image/jpeg:https://oursaviorschurch.com/wp-content/uploads/2022/09/morning-prayer-opelousas.jpg
END:VEVENT
BEGIN:VEVENT
DTSTART;TZID=America/Chicago:20260715T180000
DTEND;TZID=America/Chicago:20260715T190000
DTSTAMP:20260421T022258
CREATED:20260129T204750Z
LAST-MODIFIED:20260418T012557Z
UID:22239-1784138400-1784142000@oursaviorschurch.com
SUMMARY:Growing in Prayer
DESCRIPTION:
URL:https://oursaviorschurch.com/event/growing-in-prayer-3/2026-07-15/
CATEGORIES:Broussard
ATTACH;FMTTYPE=image/png:https://oursaviorschurch.com/wp-content/uploads/2022/09/Growing-in-Prayer-New-FB.png
END:VEVENT
BEGIN:VEVENT
DTSTART;TZID=America/Chicago:20260720T060000
DTEND;TZID=America/Chicago:20260720T190000
DTSTAMP:20260421T022258
CREATED:20260129T205218Z
LAST-MODIFIED:20260129T205218Z
UID:22365-1784527200-1784574000@oursaviorschurch.com
SUMMARY:Morning Prayer
DESCRIPTION:
URL:https://oursaviorschurch.com/event/morning-prayer-2/2026-07-20/
CATEGORIES:Broussard
ATTACH;FMTTYPE=image/jpeg:https://oursaviorschurch.com/wp-content/uploads/2022/09/morning-prayer-opelousas.jpg
END:VEVENT
BEGIN:VEVENT
DTSTART;TZID=America/Chicago:20260722T180000
DTEND;TZID=America/Chicago:20260722T190000
DTSTAMP:20260421T022258
CREATED:20260129T204750Z
LAST-MODIFIED:20260418T012558Z
UID:22240-1784743200-1784746800@oursaviorschurch.com
SUMMARY:Growing in Prayer
DESCRIPTION:
URL:https://oursaviorschurch.com/event/growing-in-prayer-3/2026-07-22/
CATEGORIES:Broussard
ATTACH;FMTTYPE=image/png:https://oursaviorschurch.com/wp-content/uploads/2022/09/Growing-in-Prayer-New-FB.png
END:VEVENT
BEGIN:VEVENT
DTSTART;TZID=America/Chicago:20260725T080000
DTEND;TZID=America/Chicago:20260725T100000
DTSTAMP:20260421T022258
CREATED:20221108T035839Z
LAST-MODIFIED:20221108T035839Z
UID:12908-1784966400-1784973600@oursaviorschurch.com
SUMMARY:Men's Community Breakfast
DESCRIPTION:Every 4th Saturday of the month from 8am-10am at The Hope Center in St. Martinville
URL:https://oursaviorschurch.com/event/mens-community-breakfast/2026-07-25/
LOCATION:The Hope Center\, 115 E Bridge St\, St. Martinville\, LA\, 70582\, United States
CATEGORIES:Broussard
ATTACH;FMTTYPE=image/jpeg:https://oursaviorschurch.com/wp-content/uploads/2022/11/mens-event.jpg
END:VEVENT
BEGIN:VEVENT
DTSTART;TZID=America/Chicago:20260726T100000
DTEND;TZID=America/Chicago:20260726T103000
DTSTAMP:20260421T022258
CREATED:20260320T213523Z
LAST-MODIFIED:20260320T213523Z
UID:23405-1785060000-1785061800@oursaviorschurch.com
SUMMARY:Water Baptism
DESCRIPTION:Held on the 4th Sunday of the month at the 10:00am service\nSign up here!
URL:https://oursaviorschurch.com/event/water-baptism-11/2026-07-26/
CATEGORIES:Broussard
ATTACH;FMTTYPE=image/jpeg:https://oursaviorschurch.com/wp-content/uploads/2025/08/Baptisms-gen.jpg
END:VEVENT
BEGIN:VEVENT
DTSTART;TZID=America/Chicago:20260727T060000
DTEND;TZID=America/Chicago:20260727T190000
DTSTAMP:20260421T022258
CREATED:20260129T205218Z
LAST-MODIFIED:20260129T205218Z
UID:22366-1785132000-1785178800@oursaviorschurch.com
SUMMARY:Morning Prayer
DESCRIPTION:
URL:https://oursaviorschurch.com/event/morning-prayer-2/2026-07-27/
CATEGORIES:Broussard
ATTACH;FMTTYPE=image/jpeg:https://oursaviorschurch.com/wp-content/uploads/2022/09/morning-prayer-opelousas.jpg
END:VEVENT
BEGIN:VEVENT
DTSTART;TZID=America/Chicago:20260729T180000
DTEND;TZID=America/Chicago:20260729T190000
DTSTAMP:20260421T022258
CREATED:20260129T204750Z
LAST-MODIFIED:20260418T012558Z
UID:22241-1785348000-1785351600@oursaviorschurch.com
SUMMARY:Growing in Prayer
DESCRIPTION:
URL:https://oursaviorschurch.com/event/growing-in-prayer-3/2026-07-29/
CATEGORIES:Broussard
ATTACH;FMTTYPE=image/png:https://oursaviorschurch.com/wp-content/uploads/2022/09/Growing-in-Prayer-New-FB.png
END:VEVENT
END:VCALENDAR