BEGIN:VCALENDAR
VERSION:2.0
PRODID:-//Our Savior&#039;s Church - ECPv6.0.13//NONSGML v1.0//EN
CALSCALE:GREGORIAN
METHOD:PUBLISH
X-WR-CALNAME:Our Savior&#039;s Church
X-ORIGINAL-URL:https://oursaviorschurch.com
X-WR-CALDESC:Events for Our Savior&#039;s Church
REFRESH-INTERVAL;VALUE=DURATION:PT1H
X-Robots-Tag:noindex
X-PUBLISHED-TTL:PT1H
BEGIN:VTIMEZONE
TZID:America/Chicago
BEGIN:DAYLIGHT
TZOFFSETFROM:-0600
TZOFFSETTO:-0500
TZNAME:CDT
DTSTART:20260308T080000
END:DAYLIGHT
BEGIN:STANDARD
TZOFFSETFROM:-0500
TZOFFSETTO:-0600
TZNAME:CST
DTSTART:20261101T070000
END:STANDARD
END:VTIMEZONE
BEGIN:VEVENT
DTSTART;TZID=America/Chicago:20260601T060000
DTEND;TZID=America/Chicago:20260601T190000
DTSTAMP:20260420T015953
CREATED:20260129T205218Z
LAST-MODIFIED:20260129T205218Z
UID:22358-1780293600-1780340400@oursaviorschurch.com
SUMMARY:Morning Prayer
DESCRIPTION:
URL:https://oursaviorschurch.com/event/morning-prayer-2/2026-06-01/
CATEGORIES:Broussard
ATTACH;FMTTYPE=image/jpeg:https://oursaviorschurch.com/wp-content/uploads/2022/09/morning-prayer-opelousas.jpg
END:VEVENT
BEGIN:VEVENT
DTSTART;TZID=America/Chicago:20260603T180000
DTEND;TZID=America/Chicago:20260603T190000
DTSTAMP:20260420T015953
CREATED:20260129T204750Z
LAST-MODIFIED:20260418T012554Z
UID:22232-1780509600-1780513200@oursaviorschurch.com
SUMMARY:Growing in Prayer
DESCRIPTION:
URL:https://oursaviorschurch.com/event/growing-in-prayer-3/2026-06-03/
CATEGORIES:Broussard
ATTACH;FMTTYPE=image/png:https://oursaviorschurch.com/wp-content/uploads/2022/09/Growing-in-Prayer-New-FB.png
END:VEVENT
BEGIN:VEVENT
DTSTART;VALUE=DATE:20260607
DTEND;VALUE=DATE:20260608
DTSTAMP:20260420T015953
CREATED:20260320T214059Z
LAST-MODIFIED:20260320T214341Z
UID:23428-1780790400-1780876799@oursaviorschurch.com
SUMMARY:Intro to Next Steps
DESCRIPTION:Intro to Next Steps – 1st Sunday of every month immediately following the 10am service
URL:https://oursaviorschurch.com/event/intro-to-next-steps-4/2026-06-07/
CATEGORIES:Broussard
ATTACH;FMTTYPE=image/jpeg:https://oursaviorschurch.com/wp-content/uploads/2026/03/Next-Steps.jpg
END:VEVENT
BEGIN:VEVENT
DTSTART;TZID=America/Chicago:20260608T060000
DTEND;TZID=America/Chicago:20260608T190000
DTSTAMP:20260420T015953
CREATED:20260129T205218Z
LAST-MODIFIED:20260129T205218Z
UID:22359-1780898400-1780945200@oursaviorschurch.com
SUMMARY:Morning Prayer
DESCRIPTION:
URL:https://oursaviorschurch.com/event/morning-prayer-2/2026-06-08/
CATEGORIES:Broussard
ATTACH;FMTTYPE=image/jpeg:https://oursaviorschurch.com/wp-content/uploads/2022/09/morning-prayer-opelousas.jpg
END:VEVENT
BEGIN:VEVENT
DTSTART;TZID=America/Chicago:20260610T180000
DTEND;TZID=America/Chicago:20260610T190000
DTSTAMP:20260420T015953
CREATED:20260129T204750Z
LAST-MODIFIED:20260418T012554Z
UID:22233-1781114400-1781118000@oursaviorschurch.com
SUMMARY:Growing in Prayer
DESCRIPTION:
URL:https://oursaviorschurch.com/event/growing-in-prayer-3/2026-06-10/
CATEGORIES:Broussard
ATTACH;FMTTYPE=image/png:https://oursaviorschurch.com/wp-content/uploads/2022/09/Growing-in-Prayer-New-FB.png
END:VEVENT
BEGIN:VEVENT
DTSTART;VALUE=DATE:20260614
DTEND;VALUE=DATE:20260615
DTSTAMP:20260420T015953
CREATED:20260320T214454Z
LAST-MODIFIED:20260320T214454Z
UID:23476-1781395200-1781481599@oursaviorschurch.com
SUMMARY:Intro to Serve
DESCRIPTION:Intro to Serve – 2nd Sunday of every month immediately following the 10am service
URL:https://oursaviorschurch.com/event/intro-to-serve-9/2026-06-14/
CATEGORIES:Broussard
ATTACH;FMTTYPE=image/jpeg:https://oursaviorschurch.com/wp-content/uploads/2026/03/Intro-to-Serve.jpg
END:VEVENT
BEGIN:VEVENT
DTSTART;TZID=America/Chicago:20260615T060000
DTEND;TZID=America/Chicago:20260615T190000
DTSTAMP:20260420T015953
CREATED:20260129T205218Z
LAST-MODIFIED:20260129T205218Z
UID:22360-1781503200-1781550000@oursaviorschurch.com
SUMMARY:Morning Prayer
DESCRIPTION:
URL:https://oursaviorschurch.com/event/morning-prayer-2/2026-06-15/
CATEGORIES:Broussard
ATTACH;FMTTYPE=image/jpeg:https://oursaviorschurch.com/wp-content/uploads/2022/09/morning-prayer-opelousas.jpg
END:VEVENT
BEGIN:VEVENT
DTSTART;TZID=America/Chicago:20260617T180000
DTEND;TZID=America/Chicago:20260617T190000
DTSTAMP:20260420T015953
CREATED:20260129T204750Z
LAST-MODIFIED:20260418T012555Z
UID:22234-1781719200-1781722800@oursaviorschurch.com
SUMMARY:Growing in Prayer
DESCRIPTION:
URL:https://oursaviorschurch.com/event/growing-in-prayer-3/2026-06-17/
CATEGORIES:Broussard
ATTACH;FMTTYPE=image/png:https://oursaviorschurch.com/wp-content/uploads/2022/09/Growing-in-Prayer-New-FB.png
END:VEVENT
BEGIN:VEVENT
DTSTART;TZID=America/Chicago:20260622T060000
DTEND;TZID=America/Chicago:20260622T190000
DTSTAMP:20260420T015953
CREATED:20260129T205218Z
LAST-MODIFIED:20260129T205218Z
UID:22361-1782108000-1782154800@oursaviorschurch.com
SUMMARY:Morning Prayer
DESCRIPTION:
URL:https://oursaviorschurch.com/event/morning-prayer-2/2026-06-22/
CATEGORIES:Broussard
ATTACH;FMTTYPE=image/jpeg:https://oursaviorschurch.com/wp-content/uploads/2022/09/morning-prayer-opelousas.jpg
END:VEVENT
BEGIN:VEVENT
DTSTART;TZID=America/Chicago:20260624T180000
DTEND;TZID=America/Chicago:20260624T190000
DTSTAMP:20260420T015953
CREATED:20260129T204750Z
LAST-MODIFIED:20260418T012555Z
UID:22235-1782324000-1782327600@oursaviorschurch.com
SUMMARY:Growing in Prayer
DESCRIPTION:
URL:https://oursaviorschurch.com/event/growing-in-prayer-3/2026-06-24/
CATEGORIES:Broussard
ATTACH;FMTTYPE=image/png:https://oursaviorschurch.com/wp-content/uploads/2022/09/Growing-in-Prayer-New-FB.png
END:VEVENT
BEGIN:VEVENT
DTSTART;TZID=America/Chicago:20260627T080000
DTEND;TZID=America/Chicago:20260627T100000
DTSTAMP:20260420T015953
CREATED:20221108T035839Z
LAST-MODIFIED:20221108T035839Z
UID:12629-1782547200-1782554400@oursaviorschurch.com
SUMMARY:Men's Community Breakfast
DESCRIPTION:Every 4th Saturday of the month from 8am-10am at The Hope Center in St. Martinville
URL:https://oursaviorschurch.com/event/mens-community-breakfast/2026-06-27/
LOCATION:The Hope Center\, 115 E Bridge St\, St. Martinville\, LA\, 70582\, United States
CATEGORIES:Broussard
ATTACH;FMTTYPE=image/jpeg:https://oursaviorschurch.com/wp-content/uploads/2022/11/mens-event.jpg
END:VEVENT
BEGIN:VEVENT
DTSTART;TZID=America/Chicago:20260628T100000
DTEND;TZID=America/Chicago:20260628T103000
DTSTAMP:20260420T015953
CREATED:20260320T213523Z
LAST-MODIFIED:20260320T213523Z
UID:23404-1782640800-1782642600@oursaviorschurch.com
SUMMARY:Water Baptism
DESCRIPTION:Held on the 4th Sunday of the month at the 10:00am service\nSign up here!
URL:https://oursaviorschurch.com/event/water-baptism-11/2026-06-28/
CATEGORIES:Broussard
ATTACH;FMTTYPE=image/jpeg:https://oursaviorschurch.com/wp-content/uploads/2025/08/Baptisms-gen.jpg
END:VEVENT
BEGIN:VEVENT
DTSTART;TZID=America/Chicago:20260629T060000
DTEND;TZID=America/Chicago:20260629T190000
DTSTAMP:20260420T015953
CREATED:20260129T205218Z
LAST-MODIFIED:20260129T205218Z
UID:22362-1782712800-1782759600@oursaviorschurch.com
SUMMARY:Morning Prayer
DESCRIPTION:
URL:https://oursaviorschurch.com/event/morning-prayer-2/2026-06-29/
CATEGORIES:Broussard
ATTACH;FMTTYPE=image/jpeg:https://oursaviorschurch.com/wp-content/uploads/2022/09/morning-prayer-opelousas.jpg
END:VEVENT
END:VCALENDAR