BEGIN:VCALENDAR
VERSION:2.0
PRODID:-//Our Savior&#039;s Church - ECPv6.0.13//NONSGML v1.0//EN
CALSCALE:GREGORIAN
METHOD:PUBLISH
X-ORIGINAL-URL:https://oursaviorschurch.com
X-WR-CALDESC:Events for Our Savior&#039;s Church
REFRESH-INTERVAL;VALUE=DURATION:PT1H
X-Robots-Tag:noindex
X-PUBLISHED-TTL:PT1H
BEGIN:VTIMEZONE
TZID:America/Chicago
BEGIN:DAYLIGHT
TZOFFSETFROM:-0600
TZOFFSETTO:-0500
TZNAME:CDT
DTSTART:20260308T080000
END:DAYLIGHT
BEGIN:STANDARD
TZOFFSETFROM:-0500
TZOFFSETTO:-0600
TZNAME:CST
DTSTART:20261101T070000
END:STANDARD
END:VTIMEZONE
BEGIN:VEVENT
DTSTART;TZID=America/Chicago:20260302T060000
DTEND;TZID=America/Chicago:20260302T190000
DTSTAMP:20260419T144248
CREATED:20260129T205218Z
LAST-MODIFIED:20260129T205218Z
UID:22345-1772431200-1772478000@oursaviorschurch.com
SUMMARY:Morning Prayer
DESCRIPTION:
URL:https://oursaviorschurch.com/event/morning-prayer-2/2026-03-02/
CATEGORIES:Broussard
ATTACH;FMTTYPE=image/jpeg:https://oursaviorschurch.com/wp-content/uploads/2022/09/morning-prayer-opelousas.jpg
END:VEVENT
BEGIN:VEVENT
DTSTART;TZID=America/Chicago:20260304T180000
DTEND;TZID=America/Chicago:20260304T190000
DTSTAMP:20260419T144248
CREATED:20260129T204750Z
LAST-MODIFIED:20260418T012545Z
UID:22218-1772647200-1772650800@oursaviorschurch.com
SUMMARY:Growing in Prayer
DESCRIPTION:
URL:https://oursaviorschurch.com/event/growing-in-prayer-3/2026-03-04/
CATEGORIES:Broussard
ATTACH;FMTTYPE=image/png:https://oursaviorschurch.com/wp-content/uploads/2022/09/Growing-in-Prayer-New-FB.png
END:VEVENT
BEGIN:VEVENT
DTSTART;TZID=America/Chicago:20260308T170000
DTEND;TZID=America/Chicago:20260308T200000
DTSTAMP:20260419T144248
CREATED:20260207T031842Z
LAST-MODIFIED:20260217T005401Z
UID:22529-1772989200-1773000000@oursaviorschurch.com
SUMMARY:Women's Night
DESCRIPTION:Sunday\, March 8th at 6:00pm
URL:https://oursaviorschurch.com/event/womens-night/
CATEGORIES:Broussard
ATTACH;FMTTYPE=image/jpeg:https://oursaviorschurch.com/wp-content/uploads/2026/02/womens-onenight-V2.jpg
END:VEVENT
BEGIN:VEVENT
DTSTART;TZID=America/Chicago:20260309T060000
DTEND;TZID=America/Chicago:20260309T190000
DTSTAMP:20260419T144248
CREATED:20260129T205218Z
LAST-MODIFIED:20260129T205218Z
UID:22346-1773036000-1773082800@oursaviorschurch.com
SUMMARY:Morning Prayer
DESCRIPTION:
URL:https://oursaviorschurch.com/event/morning-prayer-2/2026-03-09/
CATEGORIES:Broussard
ATTACH;FMTTYPE=image/jpeg:https://oursaviorschurch.com/wp-content/uploads/2022/09/morning-prayer-opelousas.jpg
END:VEVENT
BEGIN:VEVENT
DTSTART;TZID=America/Chicago:20260311T180000
DTEND;TZID=America/Chicago:20260311T190000
DTSTAMP:20260419T144248
CREATED:20260129T204750Z
LAST-MODIFIED:20260418T012551Z
UID:22219-1773252000-1773255600@oursaviorschurch.com
SUMMARY:Growing in Prayer
DESCRIPTION:
URL:https://oursaviorschurch.com/event/growing-in-prayer-3/2026-03-11/
CATEGORIES:Broussard
ATTACH;FMTTYPE=image/png:https://oursaviorschurch.com/wp-content/uploads/2022/09/Growing-in-Prayer-New-FB.png
END:VEVENT
BEGIN:VEVENT
DTSTART;TZID=America/Chicago:20260316T060000
DTEND;TZID=America/Chicago:20260316T190000
DTSTAMP:20260419T144248
CREATED:20260129T205218Z
LAST-MODIFIED:20260129T205218Z
UID:22347-1773640800-1773687600@oursaviorschurch.com
SUMMARY:Morning Prayer
DESCRIPTION:
URL:https://oursaviorschurch.com/event/morning-prayer-2/2026-03-16/
CATEGORIES:Broussard
ATTACH;FMTTYPE=image/jpeg:https://oursaviorschurch.com/wp-content/uploads/2022/09/morning-prayer-opelousas.jpg
END:VEVENT
BEGIN:VEVENT
DTSTART;TZID=America/Chicago:20260318T180000
DTEND;TZID=America/Chicago:20260318T190000
DTSTAMP:20260419T144248
CREATED:20260129T204750Z
LAST-MODIFIED:20260418T012551Z
UID:22220-1773856800-1773860400@oursaviorschurch.com
SUMMARY:Growing in Prayer
DESCRIPTION:
URL:https://oursaviorschurch.com/event/growing-in-prayer-3/2026-03-18/
CATEGORIES:Broussard
ATTACH;FMTTYPE=image/png:https://oursaviorschurch.com/wp-content/uploads/2022/09/Growing-in-Prayer-New-FB.png
END:VEVENT
BEGIN:VEVENT
DTSTART;TZID=America/Chicago:20260322T100000
DTEND;TZID=America/Chicago:20260322T103000
DTSTAMP:20260419T144248
CREATED:20260320T213523Z
LAST-MODIFIED:20260320T213523Z
UID:23400-1774173600-1774175400@oursaviorschurch.com
SUMMARY:Water Baptism
DESCRIPTION:Held on the 4th Sunday of the month at the 10:00am service\nSign up here!
URL:https://oursaviorschurch.com/event/water-baptism-11/2026-03-22/
CATEGORIES:Broussard
ATTACH;FMTTYPE=image/jpeg:https://oursaviorschurch.com/wp-content/uploads/2025/08/Baptisms-gen.jpg
END:VEVENT
BEGIN:VEVENT
DTSTART;TZID=America/Chicago:20260323T060000
DTEND;TZID=America/Chicago:20260323T190000
DTSTAMP:20260419T144248
CREATED:20260129T205218Z
LAST-MODIFIED:20260129T205218Z
UID:22348-1774245600-1774292400@oursaviorschurch.com
SUMMARY:Morning Prayer
DESCRIPTION:
URL:https://oursaviorschurch.com/event/morning-prayer-2/2026-03-23/
CATEGORIES:Broussard
ATTACH;FMTTYPE=image/jpeg:https://oursaviorschurch.com/wp-content/uploads/2022/09/morning-prayer-opelousas.jpg
END:VEVENT
BEGIN:VEVENT
DTSTART;TZID=America/Chicago:20260325T180000
DTEND;TZID=America/Chicago:20260325T190000
DTSTAMP:20260419T144248
CREATED:20260129T204750Z
LAST-MODIFIED:20260418T012552Z
UID:22221-1774461600-1774465200@oursaviorschurch.com
SUMMARY:Growing in Prayer
DESCRIPTION:
URL:https://oursaviorschurch.com/event/growing-in-prayer-3/2026-03-25/
CATEGORIES:Broussard
ATTACH;FMTTYPE=image/png:https://oursaviorschurch.com/wp-content/uploads/2022/09/Growing-in-Prayer-New-FB.png
END:VEVENT
BEGIN:VEVENT
DTSTART;TZID=America/Chicago:20260328T080000
DTEND;TZID=America/Chicago:20260328T100000
DTSTAMP:20260419T144248
CREATED:20221108T035839Z
LAST-MODIFIED:20221108T035839Z
UID:11769-1774684800-1774692000@oursaviorschurch.com
SUMMARY:Men's Community Breakfast
DESCRIPTION:Every 4th Saturday of the month from 8am-10am at The Hope Center in St. Martinville
URL:https://oursaviorschurch.com/event/mens-community-breakfast/2026-03-28/
LOCATION:The Hope Center\, 115 E Bridge St\, St. Martinville\, LA\, 70582\, United States
CATEGORIES:Broussard
ATTACH;FMTTYPE=image/jpeg:https://oursaviorschurch.com/wp-content/uploads/2022/11/mens-event.jpg
END:VEVENT
BEGIN:VEVENT
DTSTART;TZID=America/Chicago:20260330T060000
DTEND;TZID=America/Chicago:20260330T190000
DTSTAMP:20260419T144248
CREATED:20260129T205218Z
LAST-MODIFIED:20260129T205218Z
UID:22349-1774850400-1774897200@oursaviorschurch.com
SUMMARY:Morning Prayer
DESCRIPTION:
URL:https://oursaviorschurch.com/event/morning-prayer-2/2026-03-30/
CATEGORIES:Broussard
ATTACH;FMTTYPE=image/jpeg:https://oursaviorschurch.com/wp-content/uploads/2022/09/morning-prayer-opelousas.jpg
END:VEVENT
END:VCALENDAR