BEGIN:VCALENDAR
VERSION:2.0
PRODID:-//Our Savior&#039;s Church - ECPv6.0.13//NONSGML v1.0//EN
CALSCALE:GREGORIAN
METHOD:PUBLISH
X-WR-CALNAME:Our Savior&#039;s Church
X-ORIGINAL-URL:https://oursaviorschurch.com
X-WR-CALDESC:Events for Our Savior&#039;s Church
REFRESH-INTERVAL;VALUE=DURATION:PT1H
X-Robots-Tag:noindex
X-PUBLISHED-TTL:PT1H
BEGIN:VTIMEZONE
TZID:America/Chicago
BEGIN:DAYLIGHT
TZOFFSETFROM:-0600
TZOFFSETTO:-0500
TZNAME:CDT
DTSTART:20260308T080000
END:DAYLIGHT
BEGIN:STANDARD
TZOFFSETFROM:-0500
TZOFFSETTO:-0600
TZNAME:CST
DTSTART:20261101T070000
END:STANDARD
END:VTIMEZONE
BEGIN:VEVENT
DTSTART;TZID=America/Chicago:20260202T060000
DTEND;TZID=America/Chicago:20260202T190000
DTSTAMP:20260420T015954
CREATED:20260129T205218Z
LAST-MODIFIED:20260129T205218Z
UID:22340-1770012000-1770058800@oursaviorschurch.com
SUMMARY:Morning Prayer
DESCRIPTION:
URL:https://oursaviorschurch.com/event/morning-prayer-2/2026-02-02/
CATEGORIES:Broussard
ATTACH;FMTTYPE=image/jpeg:https://oursaviorschurch.com/wp-content/uploads/2022/09/morning-prayer-opelousas.jpg
END:VEVENT
BEGIN:VEVENT
DTSTART;TZID=America/Chicago:20260209T060000
DTEND;TZID=America/Chicago:20260209T190000
DTSTAMP:20260420T015954
CREATED:20260129T205218Z
LAST-MODIFIED:20260129T205218Z
UID:22342-1770616800-1770663600@oursaviorschurch.com
SUMMARY:Morning Prayer
DESCRIPTION:
URL:https://oursaviorschurch.com/event/morning-prayer-2/2026-02-09/
CATEGORIES:Broussard
ATTACH;FMTTYPE=image/jpeg:https://oursaviorschurch.com/wp-content/uploads/2022/09/morning-prayer-opelousas.jpg
END:VEVENT
BEGIN:VEVENT
DTSTART;TZID=America/Chicago:20260211T180000
DTEND;TZID=America/Chicago:20260211T190000
DTSTAMP:20260420T015954
CREATED:20260129T204750Z
LAST-MODIFIED:20260418T012533Z
UID:22215-1770832800-1770836400@oursaviorschurch.com
SUMMARY:Growing in Prayer
DESCRIPTION:
URL:https://oursaviorschurch.com/event/growing-in-prayer-3/2026-02-11/
CATEGORIES:Broussard
ATTACH;FMTTYPE=image/png:https://oursaviorschurch.com/wp-content/uploads/2022/09/Growing-in-Prayer-New-FB.png
END:VEVENT
BEGIN:VEVENT
DTSTART;TZID=America/Chicago:20260216T060000
DTEND;TZID=America/Chicago:20260216T190000
DTSTAMP:20260420T015954
CREATED:20260129T205218Z
LAST-MODIFIED:20260129T205218Z
UID:22343-1771221600-1771268400@oursaviorschurch.com
SUMMARY:Morning Prayer
DESCRIPTION:
URL:https://oursaviorschurch.com/event/morning-prayer-2/2026-02-16/
CATEGORIES:Broussard
ATTACH;FMTTYPE=image/jpeg:https://oursaviorschurch.com/wp-content/uploads/2022/09/morning-prayer-opelousas.jpg
END:VEVENT
BEGIN:VEVENT
DTSTART;TZID=America/Chicago:20260218T180000
DTEND;TZID=America/Chicago:20260218T190000
DTSTAMP:20260420T015954
CREATED:20260129T204750Z
LAST-MODIFIED:20260418T012543Z
UID:22216-1771437600-1771441200@oursaviorschurch.com
SUMMARY:Growing in Prayer
DESCRIPTION:
URL:https://oursaviorschurch.com/event/growing-in-prayer-3/2026-02-18/
CATEGORIES:Broussard
ATTACH;FMTTYPE=image/png:https://oursaviorschurch.com/wp-content/uploads/2022/09/Growing-in-Prayer-New-FB.png
END:VEVENT
BEGIN:VEVENT
DTSTART;TZID=America/Chicago:20260223T060000
DTEND;TZID=America/Chicago:20260223T190000
DTSTAMP:20260420T015954
CREATED:20260129T205218Z
LAST-MODIFIED:20260129T205218Z
UID:22344-1771826400-1771873200@oursaviorschurch.com
SUMMARY:Morning Prayer
DESCRIPTION:
URL:https://oursaviorschurch.com/event/morning-prayer-2/2026-02-23/
CATEGORIES:Broussard
ATTACH;FMTTYPE=image/jpeg:https://oursaviorschurch.com/wp-content/uploads/2022/09/morning-prayer-opelousas.jpg
END:VEVENT
BEGIN:VEVENT
DTSTART;TZID=America/Chicago:20260225T180000
DTEND;TZID=America/Chicago:20260225T190000
DTSTAMP:20260420T015954
CREATED:20260129T204750Z
LAST-MODIFIED:20260418T012544Z
UID:22217-1772042400-1772046000@oursaviorschurch.com
SUMMARY:Growing in Prayer
DESCRIPTION:
URL:https://oursaviorschurch.com/event/growing-in-prayer-3/2026-02-25/
CATEGORIES:Broussard
ATTACH;FMTTYPE=image/png:https://oursaviorschurch.com/wp-content/uploads/2022/09/Growing-in-Prayer-New-FB.png
END:VEVENT
BEGIN:VEVENT
DTSTART;TZID=America/Chicago:20260228T080000
DTEND;TZID=America/Chicago:20260228T100000
DTSTAMP:20260420T015954
CREATED:20221108T035839Z
LAST-MODIFIED:20221108T035839Z
UID:11335-1772265600-1772272800@oursaviorschurch.com
SUMMARY:Men's Community Breakfast
DESCRIPTION:Every 4th Saturday of the month from 8am-10am at The Hope Center in St. Martinville
URL:https://oursaviorschurch.com/event/mens-community-breakfast/2026-02-28/
LOCATION:The Hope Center\, 115 E Bridge St\, St. Martinville\, LA\, 70582\, United States
CATEGORIES:Broussard
ATTACH;FMTTYPE=image/jpeg:https://oursaviorschurch.com/wp-content/uploads/2022/11/mens-event.jpg
END:VEVENT
END:VCALENDAR