BEGIN:VCALENDAR
VERSION:2.0
PRODID:-//Our Savior&#039;s Church - ECPv6.0.13//NONSGML v1.0//EN
CALSCALE:GREGORIAN
METHOD:PUBLISH
X-ORIGINAL-URL:https://oursaviorschurch.com
X-WR-CALDESC:Events for Our Savior&#039;s Church
REFRESH-INTERVAL;VALUE=DURATION:PT1H
X-Robots-Tag:noindex
X-PUBLISHED-TTL:PT1H
BEGIN:VTIMEZONE
TZID:America/Chicago
BEGIN:DAYLIGHT
TZOFFSETFROM:-0600
TZOFFSETTO:-0500
TZNAME:CDT
DTSTART:20240310T080000
END:DAYLIGHT
BEGIN:STANDARD
TZOFFSETFROM:-0500
TZOFFSETTO:-0600
TZNAME:CST
DTSTART:20241103T070000
END:STANDARD
END:VTIMEZONE
BEGIN:VEVENT
DTSTART;TZID=America/Chicago:20241214T080000
DTEND;TZID=America/Chicago:20241214T100000
DTSTAMP:20260419T101408
CREATED:20241125T215733Z
LAST-MODIFIED:20241125T220120Z
UID:14216-1734163200-1734170400@oursaviorschurch.com
SUMMARY:Giving Hope
DESCRIPTION:Give the Gift of Hope in Jesus this Christmas! More details at your Campus!\nhttps://www.signupgenius.com/go/GivingHope2024#/ \nGiving Hope\nDecember 14th\nChristmas Outreach Hosted by the Midtown Campus (include address)\n101 Marie Anntoinette\nLafayette\n70506
URL:https://oursaviorschurch.com/event/giving-hope/
CATEGORIES:Midtown
ATTACH;FMTTYPE=image/jpeg:https://oursaviorschurch.com/wp-content/uploads/2024/11/Giving-Hope-Screen-Graphic-with-Info.jpg
END:VEVENT
BEGIN:VEVENT
DTSTART;TZID=America/Chicago:20241214T080000
DTEND;TZID=America/Chicago:20241214T100000
DTSTAMP:20260419T101408
CREATED:20241125T215847Z
LAST-MODIFIED:20241125T215847Z
UID:14219-1734163200-1734170400@oursaviorschurch.com
SUMMARY:Giving Hope
DESCRIPTION:Give the Gift of Hope in Jesus this Christmas! More details at your Campus!
URL:https://oursaviorschurch.com/event/giving-hope-2/
CATEGORIES:Lafayette,Youngsville
ATTACH;FMTTYPE=image/jpeg:https://oursaviorschurch.com/wp-content/uploads/2024/11/Giving-Hope-Screen-Graphic-with-Info.jpg
END:VEVENT
END:VCALENDAR