BEGIN:VCALENDAR
VERSION:2.0
PRODID:-//Our Savior&#039;s Church - ECPv6.0.13//NONSGML v1.0//EN
CALSCALE:GREGORIAN
METHOD:PUBLISH
X-WR-CALNAME:Our Savior&#039;s Church
X-ORIGINAL-URL:https://oursaviorschurch.com
X-WR-CALDESC:Events for Our Savior&#039;s Church
REFRESH-INTERVAL;VALUE=DURATION:PT1H
X-Robots-Tag:noindex
X-PUBLISHED-TTL:PT1H
BEGIN:VTIMEZONE
TZID:America/Chicago
BEGIN:DAYLIGHT
TZOFFSETFROM:-0600
TZOFFSETTO:-0500
TZNAME:CDT
DTSTART:20240310T080000
END:DAYLIGHT
BEGIN:STANDARD
TZOFFSETFROM:-0500
TZOFFSETTO:-0600
TZNAME:CST
DTSTART:20241103T070000
END:STANDARD
END:VTIMEZONE
BEGIN:VEVENT
DTSTART;VALUE=DATE:20241103
DTEND;VALUE=DATE:20241104
DTSTAMP:20260419T152551
CREATED:20241028T122806Z
LAST-MODIFIED:20241028T122806Z
UID:13946-1730592000-1730678399@oursaviorschurch.com
SUMMARY:Student Small Group
DESCRIPTION:Student Details: \nMiddle School\n\nSundays 11am\n\n101 Marie Antoinette St Lafayette\, LA\n\n\nHigh School\n\nSundays 6-8pm\n\n1201 E Broussard Rd Lafayette\, LA 70508
URL:https://oursaviorschurch.com/event/student-small-group/
CATEGORIES:Midtown
ATTACH;FMTTYPE=image/jpeg:https://oursaviorschurch.com/wp-content/uploads/2022/09/students-bg.jpg
END:VEVENT
BEGIN:VEVENT
DTSTART;TZID=America/Chicago:20241103T160000
DTEND;TZID=America/Chicago:20241103T180000
DTSTAMP:20260419T152551
CREATED:20241021T193707Z
LAST-MODIFIED:20241021T193707Z
UID:13910-1730649600-1730656800@oursaviorschurch.com
SUMMARY:Harvest Fest
DESCRIPTION:Join us at Harvest Fest!
URL:https://oursaviorschurch.com/event/harvest-fest/
CATEGORIES:Midtown
ATTACH;FMTTYPE=image/jpeg:https://oursaviorschurch.com/wp-content/uploads/2024/10/harvestfest-invite-F.jpeg
END:VEVENT
END:VCALENDAR