BEGIN:VCALENDAR
VERSION:2.0
PRODID:-//Our Savior&#039;s Church - ECPv6.0.13//NONSGML v1.0//EN
CALSCALE:GREGORIAN
METHOD:PUBLISH
X-ORIGINAL-URL:https://oursaviorschurch.com
X-WR-CALDESC:Events for Our Savior&#039;s Church
REFRESH-INTERVAL;VALUE=DURATION:PT1H
X-Robots-Tag:noindex
X-PUBLISHED-TTL:PT1H
BEGIN:VTIMEZONE
TZID:America/Chicago
BEGIN:DAYLIGHT
TZOFFSETFROM:-0600
TZOFFSETTO:-0500
TZNAME:CDT
DTSTART:20240310T080000
END:DAYLIGHT
BEGIN:STANDARD
TZOFFSETFROM:-0500
TZOFFSETTO:-0600
TZNAME:CST
DTSTART:20241103T070000
END:STANDARD
END:VTIMEZONE
BEGIN:VEVENT
DTSTART;TZID=America/Chicago:20241011T180000
DTEND;TZID=America/Chicago:20241011T200000
DTSTAMP:20260419T203401
CREATED:20241002T212202Z
LAST-MODIFIED:20241002T214652Z
UID:13677-1728669600-1728676800@oursaviorschurch.com
SUMMARY:Men's Night
DESCRIPTION:Calling all men across Acadiana!  Join us next Friday for the STRONG Men’s Conference happening at our Lafayette\, New Iberia and Opelousas campuses. This is your moment to grow stronger in faith and fellowship. Invite your brothers\, fathers\, and friends—let’s get stronger together!
URL:https://oursaviorschurch.com/event/mens-night/
CATEGORIES:Lafayette,New Iberia,Opelousas
ATTACH;FMTTYPE=image/jpeg:https://oursaviorschurch.com/wp-content/uploads/2024/10/mensconf-2024-1920x1080-1.jpg
END:VEVENT
END:VCALENDAR