BEGIN:VCALENDAR
VERSION:2.0
PRODID:-//Our Savior&#039;s Church - ECPv6.0.13//NONSGML v1.0//EN
CALSCALE:GREGORIAN
METHOD:PUBLISH
X-ORIGINAL-URL:https://oursaviorschurch.com
X-WR-CALDESC:Events for Our Savior&#039;s Church
REFRESH-INTERVAL;VALUE=DURATION:PT1H
X-Robots-Tag:noindex
X-PUBLISHED-TTL:PT1H
BEGIN:VTIMEZONE
TZID:America/Chicago
BEGIN:DAYLIGHT
TZOFFSETFROM:-0600
TZOFFSETTO:-0500
TZNAME:CDT
DTSTART:20260308T080000
END:DAYLIGHT
BEGIN:STANDARD
TZOFFSETFROM:-0500
TZOFFSETTO:-0600
TZNAME:CST
DTSTART:20261101T070000
END:STANDARD
END:VTIMEZONE
BEGIN:VEVENT
DTSTART;VALUE=DATE:20260426
DTEND;VALUE=DATE:20260427
DTSTAMP:20260420T131757
CREATED:20250418T164004Z
LAST-MODIFIED:20250418T164004Z
UID:16745-1777161600-1777247999@oursaviorschurch.com
SUMMARY:Middle School Services
DESCRIPTION:We have services for your middle school student during each of our Sunday services.
URL:https://oursaviorschurch.com/event/middle-school-services/2026-04-26/
LOCATION:OSC Youngsville\, 1800 Chemin Metairie Pkwy\, Youngsville\, LA\, 70592\, United States
CATEGORIES:Youngsville
ATTACH;FMTTYPE=image/jpeg:https://oursaviorschurch.com/wp-content/uploads/2022/09/students-bg.jpg
ORGANIZER;CN="OSC%20Youngsville":MAILTO:youngsville@oscfamily.com
END:VEVENT
BEGIN:VEVENT
DTSTART;VALUE=DATE:20260503
DTEND;VALUE=DATE:20260504
DTSTAMP:20260420T131757
CREATED:20250418T164004Z
LAST-MODIFIED:20250418T164004Z
UID:16746-1777766400-1777852799@oursaviorschurch.com
SUMMARY:Middle School Services
DESCRIPTION:We have services for your middle school student during each of our Sunday services.
URL:https://oursaviorschurch.com/event/middle-school-services/2026-05-03/
LOCATION:OSC Youngsville\, 1800 Chemin Metairie Pkwy\, Youngsville\, LA\, 70592\, United States
CATEGORIES:Youngsville
ATTACH;FMTTYPE=image/jpeg:https://oursaviorschurch.com/wp-content/uploads/2022/09/students-bg.jpg
ORGANIZER;CN="OSC%20Youngsville":MAILTO:youngsville@oscfamily.com
END:VEVENT
BEGIN:VEVENT
DTSTART;VALUE=DATE:20260510
DTEND;VALUE=DATE:20260511
DTSTAMP:20260420T131757
CREATED:20250418T164004Z
LAST-MODIFIED:20250418T164004Z
UID:16747-1778371200-1778457599@oursaviorschurch.com
SUMMARY:Middle School Services
DESCRIPTION:We have services for your middle school student during each of our Sunday services.
URL:https://oursaviorschurch.com/event/middle-school-services/2026-05-10/
LOCATION:OSC Youngsville\, 1800 Chemin Metairie Pkwy\, Youngsville\, LA\, 70592\, United States
CATEGORIES:Youngsville
ATTACH;FMTTYPE=image/jpeg:https://oursaviorschurch.com/wp-content/uploads/2022/09/students-bg.jpg
ORGANIZER;CN="OSC%20Youngsville":MAILTO:youngsville@oscfamily.com
END:VEVENT
BEGIN:VEVENT
DTSTART;VALUE=DATE:20260517
DTEND;VALUE=DATE:20260518
DTSTAMP:20260420T131757
CREATED:20250418T164004Z
LAST-MODIFIED:20250418T164004Z
UID:16748-1778976000-1779062399@oursaviorschurch.com
SUMMARY:Middle School Services
DESCRIPTION:We have services for your middle school student during each of our Sunday services.
URL:https://oursaviorschurch.com/event/middle-school-services/2026-05-17/
LOCATION:OSC Youngsville\, 1800 Chemin Metairie Pkwy\, Youngsville\, LA\, 70592\, United States
CATEGORIES:Youngsville
ATTACH;FMTTYPE=image/jpeg:https://oursaviorschurch.com/wp-content/uploads/2022/09/students-bg.jpg
ORGANIZER;CN="OSC%20Youngsville":MAILTO:youngsville@oscfamily.com
END:VEVENT
BEGIN:VEVENT
DTSTART;VALUE=DATE:20260524
DTEND;VALUE=DATE:20260525
DTSTAMP:20260420T131757
CREATED:20250418T164004Z
LAST-MODIFIED:20250418T164004Z
UID:16749-1779580800-1779667199@oursaviorschurch.com
SUMMARY:Middle School Services
DESCRIPTION:We have services for your middle school student during each of our Sunday services.
URL:https://oursaviorschurch.com/event/middle-school-services/2026-05-24/
LOCATION:OSC Youngsville\, 1800 Chemin Metairie Pkwy\, Youngsville\, LA\, 70592\, United States
CATEGORIES:Youngsville
ATTACH;FMTTYPE=image/jpeg:https://oursaviorschurch.com/wp-content/uploads/2022/09/students-bg.jpg
ORGANIZER;CN="OSC%20Youngsville":MAILTO:youngsville@oscfamily.com
END:VEVENT
BEGIN:VEVENT
DTSTART;VALUE=DATE:20260531
DTEND;VALUE=DATE:20260601
DTSTAMP:20260420T131757
CREATED:20250418T164004Z
LAST-MODIFIED:20250418T164004Z
UID:16750-1780185600-1780271999@oursaviorschurch.com
SUMMARY:Middle School Services
DESCRIPTION:We have services for your middle school student during each of our Sunday services.
URL:https://oursaviorschurch.com/event/middle-school-services/2026-05-31/
LOCATION:OSC Youngsville\, 1800 Chemin Metairie Pkwy\, Youngsville\, LA\, 70592\, United States
CATEGORIES:Youngsville
ATTACH;FMTTYPE=image/jpeg:https://oursaviorschurch.com/wp-content/uploads/2022/09/students-bg.jpg
ORGANIZER;CN="OSC%20Youngsville":MAILTO:youngsville@oscfamily.com
END:VEVENT
BEGIN:VEVENT
DTSTART;VALUE=DATE:20260607
DTEND;VALUE=DATE:20260608
DTSTAMP:20260420T131757
CREATED:20250418T164004Z
LAST-MODIFIED:20250418T164004Z
UID:16751-1780790400-1780876799@oursaviorschurch.com
SUMMARY:Middle School Services
DESCRIPTION:We have services for your middle school student during each of our Sunday services.
URL:https://oursaviorschurch.com/event/middle-school-services/2026-06-07/
LOCATION:OSC Youngsville\, 1800 Chemin Metairie Pkwy\, Youngsville\, LA\, 70592\, United States
CATEGORIES:Youngsville
ATTACH;FMTTYPE=image/jpeg:https://oursaviorschurch.com/wp-content/uploads/2022/09/students-bg.jpg
ORGANIZER;CN="OSC%20Youngsville":MAILTO:youngsville@oscfamily.com
END:VEVENT
BEGIN:VEVENT
DTSTART;VALUE=DATE:20260614
DTEND;VALUE=DATE:20260615
DTSTAMP:20260420T131757
CREATED:20250418T164004Z
LAST-MODIFIED:20250418T164004Z
UID:16752-1781395200-1781481599@oursaviorschurch.com
SUMMARY:Middle School Services
DESCRIPTION:We have services for your middle school student during each of our Sunday services.
URL:https://oursaviorschurch.com/event/middle-school-services/2026-06-14/
LOCATION:OSC Youngsville\, 1800 Chemin Metairie Pkwy\, Youngsville\, LA\, 70592\, United States
CATEGORIES:Youngsville
ATTACH;FMTTYPE=image/jpeg:https://oursaviorschurch.com/wp-content/uploads/2022/09/students-bg.jpg
ORGANIZER;CN="OSC%20Youngsville":MAILTO:youngsville@oscfamily.com
END:VEVENT
BEGIN:VEVENT
DTSTART;VALUE=DATE:20260621
DTEND;VALUE=DATE:20260622
DTSTAMP:20260420T131757
CREATED:20250418T164004Z
LAST-MODIFIED:20250418T164004Z
UID:16753-1782000000-1782086399@oursaviorschurch.com
SUMMARY:Middle School Services
DESCRIPTION:We have services for your middle school student during each of our Sunday services.
URL:https://oursaviorschurch.com/event/middle-school-services/2026-06-21/
LOCATION:OSC Youngsville\, 1800 Chemin Metairie Pkwy\, Youngsville\, LA\, 70592\, United States
CATEGORIES:Youngsville
ATTACH;FMTTYPE=image/jpeg:https://oursaviorschurch.com/wp-content/uploads/2022/09/students-bg.jpg
ORGANIZER;CN="OSC%20Youngsville":MAILTO:youngsville@oscfamily.com
END:VEVENT
BEGIN:VEVENT
DTSTART;VALUE=DATE:20260628
DTEND;VALUE=DATE:20260629
DTSTAMP:20260420T131757
CREATED:20250418T164004Z
LAST-MODIFIED:20250418T164004Z
UID:16754-1782604800-1782691199@oursaviorschurch.com
SUMMARY:Middle School Services
DESCRIPTION:We have services for your middle school student during each of our Sunday services.
URL:https://oursaviorschurch.com/event/middle-school-services/2026-06-28/
LOCATION:OSC Youngsville\, 1800 Chemin Metairie Pkwy\, Youngsville\, LA\, 70592\, United States
CATEGORIES:Youngsville
ATTACH;FMTTYPE=image/jpeg:https://oursaviorschurch.com/wp-content/uploads/2022/09/students-bg.jpg
ORGANIZER;CN="OSC%20Youngsville":MAILTO:youngsville@oscfamily.com
END:VEVENT
BEGIN:VEVENT
DTSTART;VALUE=DATE:20260705
DTEND;VALUE=DATE:20260706
DTSTAMP:20260420T131757
CREATED:20250418T164004Z
LAST-MODIFIED:20250418T164004Z
UID:16755-1783209600-1783295999@oursaviorschurch.com
SUMMARY:Middle School Services
DESCRIPTION:We have services for your middle school student during each of our Sunday services.
URL:https://oursaviorschurch.com/event/middle-school-services/2026-07-05/
LOCATION:OSC Youngsville\, 1800 Chemin Metairie Pkwy\, Youngsville\, LA\, 70592\, United States
CATEGORIES:Youngsville
ATTACH;FMTTYPE=image/jpeg:https://oursaviorschurch.com/wp-content/uploads/2022/09/students-bg.jpg
ORGANIZER;CN="OSC%20Youngsville":MAILTO:youngsville@oscfamily.com
END:VEVENT
BEGIN:VEVENT
DTSTART;VALUE=DATE:20260712
DTEND;VALUE=DATE:20260713
DTSTAMP:20260420T131757
CREATED:20250418T164004Z
LAST-MODIFIED:20250418T164004Z
UID:16756-1783814400-1783900799@oursaviorschurch.com
SUMMARY:Middle School Services
DESCRIPTION:We have services for your middle school student during each of our Sunday services.
URL:https://oursaviorschurch.com/event/middle-school-services/2026-07-12/
LOCATION:OSC Youngsville\, 1800 Chemin Metairie Pkwy\, Youngsville\, LA\, 70592\, United States
CATEGORIES:Youngsville
ATTACH;FMTTYPE=image/jpeg:https://oursaviorschurch.com/wp-content/uploads/2022/09/students-bg.jpg
ORGANIZER;CN="OSC%20Youngsville":MAILTO:youngsville@oscfamily.com
END:VEVENT
BEGIN:VEVENT
DTSTART;VALUE=DATE:20260719
DTEND;VALUE=DATE:20260720
DTSTAMP:20260420T131757
CREATED:20250418T164004Z
LAST-MODIFIED:20250418T164004Z
UID:16757-1784419200-1784505599@oursaviorschurch.com
SUMMARY:Middle School Services
DESCRIPTION:We have services for your middle school student during each of our Sunday services.
URL:https://oursaviorschurch.com/event/middle-school-services/2026-07-19/
LOCATION:OSC Youngsville\, 1800 Chemin Metairie Pkwy\, Youngsville\, LA\, 70592\, United States
CATEGORIES:Youngsville
ATTACH;FMTTYPE=image/jpeg:https://oursaviorschurch.com/wp-content/uploads/2022/09/students-bg.jpg
ORGANIZER;CN="OSC%20Youngsville":MAILTO:youngsville@oscfamily.com
END:VEVENT
BEGIN:VEVENT
DTSTART;VALUE=DATE:20260726
DTEND;VALUE=DATE:20260727
DTSTAMP:20260420T131757
CREATED:20250418T164004Z
LAST-MODIFIED:20250418T164004Z
UID:16758-1785024000-1785110399@oursaviorschurch.com
SUMMARY:Middle School Services
DESCRIPTION:We have services for your middle school student during each of our Sunday services.
URL:https://oursaviorschurch.com/event/middle-school-services/2026-07-26/
LOCATION:OSC Youngsville\, 1800 Chemin Metairie Pkwy\, Youngsville\, LA\, 70592\, United States
CATEGORIES:Youngsville
ATTACH;FMTTYPE=image/jpeg:https://oursaviorschurch.com/wp-content/uploads/2022/09/students-bg.jpg
ORGANIZER;CN="OSC%20Youngsville":MAILTO:youngsville@oscfamily.com
END:VEVENT
BEGIN:VEVENT
DTSTART;VALUE=DATE:20260802
DTEND;VALUE=DATE:20260803
DTSTAMP:20260420T131757
CREATED:20250418T164004Z
LAST-MODIFIED:20250418T164004Z
UID:16759-1785628800-1785715199@oursaviorschurch.com
SUMMARY:Middle School Services
DESCRIPTION:We have services for your middle school student during each of our Sunday services.
URL:https://oursaviorschurch.com/event/middle-school-services/2026-08-02/
LOCATION:OSC Youngsville\, 1800 Chemin Metairie Pkwy\, Youngsville\, LA\, 70592\, United States
CATEGORIES:Youngsville
ATTACH;FMTTYPE=image/jpeg:https://oursaviorschurch.com/wp-content/uploads/2022/09/students-bg.jpg
ORGANIZER;CN="OSC%20Youngsville":MAILTO:youngsville@oscfamily.com
END:VEVENT
BEGIN:VEVENT
DTSTART;VALUE=DATE:20260809
DTEND;VALUE=DATE:20260810
DTSTAMP:20260420T131757
CREATED:20250418T164004Z
LAST-MODIFIED:20250418T164004Z
UID:16760-1786233600-1786319999@oursaviorschurch.com
SUMMARY:Middle School Services
DESCRIPTION:We have services for your middle school student during each of our Sunday services.
URL:https://oursaviorschurch.com/event/middle-school-services/2026-08-09/
LOCATION:OSC Youngsville\, 1800 Chemin Metairie Pkwy\, Youngsville\, LA\, 70592\, United States
CATEGORIES:Youngsville
ATTACH;FMTTYPE=image/jpeg:https://oursaviorschurch.com/wp-content/uploads/2022/09/students-bg.jpg
ORGANIZER;CN="OSC%20Youngsville":MAILTO:youngsville@oscfamily.com
END:VEVENT
BEGIN:VEVENT
DTSTART;VALUE=DATE:20260816
DTEND;VALUE=DATE:20260817
DTSTAMP:20260420T131757
CREATED:20250418T164004Z
LAST-MODIFIED:20250418T164004Z
UID:16761-1786838400-1786924799@oursaviorschurch.com
SUMMARY:Middle School Services
DESCRIPTION:We have services for your middle school student during each of our Sunday services.
URL:https://oursaviorschurch.com/event/middle-school-services/2026-08-16/
LOCATION:OSC Youngsville\, 1800 Chemin Metairie Pkwy\, Youngsville\, LA\, 70592\, United States
CATEGORIES:Youngsville
ATTACH;FMTTYPE=image/jpeg:https://oursaviorschurch.com/wp-content/uploads/2022/09/students-bg.jpg
ORGANIZER;CN="OSC%20Youngsville":MAILTO:youngsville@oscfamily.com
END:VEVENT
BEGIN:VEVENT
DTSTART;VALUE=DATE:20260823
DTEND;VALUE=DATE:20260824
DTSTAMP:20260420T131757
CREATED:20250418T164004Z
LAST-MODIFIED:20250418T164004Z
UID:16762-1787443200-1787529599@oursaviorschurch.com
SUMMARY:Middle School Services
DESCRIPTION:We have services for your middle school student during each of our Sunday services.
URL:https://oursaviorschurch.com/event/middle-school-services/2026-08-23/
LOCATION:OSC Youngsville\, 1800 Chemin Metairie Pkwy\, Youngsville\, LA\, 70592\, United States
CATEGORIES:Youngsville
ATTACH;FMTTYPE=image/jpeg:https://oursaviorschurch.com/wp-content/uploads/2022/09/students-bg.jpg
ORGANIZER;CN="OSC%20Youngsville":MAILTO:youngsville@oscfamily.com
END:VEVENT
BEGIN:VEVENT
DTSTART;VALUE=DATE:20260830
DTEND;VALUE=DATE:20260831
DTSTAMP:20260420T131757
CREATED:20250418T164004Z
LAST-MODIFIED:20250418T164004Z
UID:16763-1788048000-1788134399@oursaviorschurch.com
SUMMARY:Middle School Services
DESCRIPTION:We have services for your middle school student during each of our Sunday services.
URL:https://oursaviorschurch.com/event/middle-school-services/2026-08-30/
LOCATION:OSC Youngsville\, 1800 Chemin Metairie Pkwy\, Youngsville\, LA\, 70592\, United States
CATEGORIES:Youngsville
ATTACH;FMTTYPE=image/jpeg:https://oursaviorschurch.com/wp-content/uploads/2022/09/students-bg.jpg
ORGANIZER;CN="OSC%20Youngsville":MAILTO:youngsville@oscfamily.com
END:VEVENT
BEGIN:VEVENT
DTSTART;VALUE=DATE:20260906
DTEND;VALUE=DATE:20260907
DTSTAMP:20260420T131757
CREATED:20250418T164004Z
LAST-MODIFIED:20250418T164004Z
UID:16764-1788652800-1788739199@oursaviorschurch.com
SUMMARY:Middle School Services
DESCRIPTION:We have services for your middle school student during each of our Sunday services.
URL:https://oursaviorschurch.com/event/middle-school-services/2026-09-06/
LOCATION:OSC Youngsville\, 1800 Chemin Metairie Pkwy\, Youngsville\, LA\, 70592\, United States
CATEGORIES:Youngsville
ATTACH;FMTTYPE=image/jpeg:https://oursaviorschurch.com/wp-content/uploads/2022/09/students-bg.jpg
ORGANIZER;CN="OSC%20Youngsville":MAILTO:youngsville@oscfamily.com
END:VEVENT
BEGIN:VEVENT
DTSTART;VALUE=DATE:20260913
DTEND;VALUE=DATE:20260914
DTSTAMP:20260420T131757
CREATED:20250418T164004Z
LAST-MODIFIED:20250418T164004Z
UID:16765-1789257600-1789343999@oursaviorschurch.com
SUMMARY:Middle School Services
DESCRIPTION:We have services for your middle school student during each of our Sunday services.
URL:https://oursaviorschurch.com/event/middle-school-services/2026-09-13/
LOCATION:OSC Youngsville\, 1800 Chemin Metairie Pkwy\, Youngsville\, LA\, 70592\, United States
CATEGORIES:Youngsville
ATTACH;FMTTYPE=image/jpeg:https://oursaviorschurch.com/wp-content/uploads/2022/09/students-bg.jpg
ORGANIZER;CN="OSC%20Youngsville":MAILTO:youngsville@oscfamily.com
END:VEVENT
BEGIN:VEVENT
DTSTART;VALUE=DATE:20260920
DTEND;VALUE=DATE:20260921
DTSTAMP:20260420T131757
CREATED:20250418T164004Z
LAST-MODIFIED:20250418T164004Z
UID:16766-1789862400-1789948799@oursaviorschurch.com
SUMMARY:Middle School Services
DESCRIPTION:We have services for your middle school student during each of our Sunday services.
URL:https://oursaviorschurch.com/event/middle-school-services/2026-09-20/
LOCATION:OSC Youngsville\, 1800 Chemin Metairie Pkwy\, Youngsville\, LA\, 70592\, United States
CATEGORIES:Youngsville
ATTACH;FMTTYPE=image/jpeg:https://oursaviorschurch.com/wp-content/uploads/2022/09/students-bg.jpg
ORGANIZER;CN="OSC%20Youngsville":MAILTO:youngsville@oscfamily.com
END:VEVENT
BEGIN:VEVENT
DTSTART;VALUE=DATE:20260927
DTEND;VALUE=DATE:20260928
DTSTAMP:20260420T131757
CREATED:20250418T164004Z
LAST-MODIFIED:20250418T164004Z
UID:16767-1790467200-1790553599@oursaviorschurch.com
SUMMARY:Middle School Services
DESCRIPTION:We have services for your middle school student during each of our Sunday services.
URL:https://oursaviorschurch.com/event/middle-school-services/2026-09-27/
LOCATION:OSC Youngsville\, 1800 Chemin Metairie Pkwy\, Youngsville\, LA\, 70592\, United States
CATEGORIES:Youngsville
ATTACH;FMTTYPE=image/jpeg:https://oursaviorschurch.com/wp-content/uploads/2022/09/students-bg.jpg
ORGANIZER;CN="OSC%20Youngsville":MAILTO:youngsville@oscfamily.com
END:VEVENT
BEGIN:VEVENT
DTSTART;VALUE=DATE:20261004
DTEND;VALUE=DATE:20261005
DTSTAMP:20260420T131757
CREATED:20250418T164004Z
LAST-MODIFIED:20250418T164004Z
UID:16768-1791072000-1791158399@oursaviorschurch.com
SUMMARY:Middle School Services
DESCRIPTION:We have services for your middle school student during each of our Sunday services.
URL:https://oursaviorschurch.com/event/middle-school-services/2026-10-04/
LOCATION:OSC Youngsville\, 1800 Chemin Metairie Pkwy\, Youngsville\, LA\, 70592\, United States
CATEGORIES:Youngsville
ATTACH;FMTTYPE=image/jpeg:https://oursaviorschurch.com/wp-content/uploads/2022/09/students-bg.jpg
ORGANIZER;CN="OSC%20Youngsville":MAILTO:youngsville@oscfamily.com
END:VEVENT
BEGIN:VEVENT
DTSTART;VALUE=DATE:20261011
DTEND;VALUE=DATE:20261012
DTSTAMP:20260420T131757
CREATED:20250418T164004Z
LAST-MODIFIED:20250418T164004Z
UID:16769-1791676800-1791763199@oursaviorschurch.com
SUMMARY:Middle School Services
DESCRIPTION:We have services for your middle school student during each of our Sunday services.
URL:https://oursaviorschurch.com/event/middle-school-services/2026-10-11/
LOCATION:OSC Youngsville\, 1800 Chemin Metairie Pkwy\, Youngsville\, LA\, 70592\, United States
CATEGORIES:Youngsville
ATTACH;FMTTYPE=image/jpeg:https://oursaviorschurch.com/wp-content/uploads/2022/09/students-bg.jpg
ORGANIZER;CN="OSC%20Youngsville":MAILTO:youngsville@oscfamily.com
END:VEVENT
BEGIN:VEVENT
DTSTART;VALUE=DATE:20261018
DTEND;VALUE=DATE:20261019
DTSTAMP:20260420T131757
CREATED:20250418T164004Z
LAST-MODIFIED:20250418T164004Z
UID:16770-1792281600-1792367999@oursaviorschurch.com
SUMMARY:Middle School Services
DESCRIPTION:We have services for your middle school student during each of our Sunday services.
URL:https://oursaviorschurch.com/event/middle-school-services/2026-10-18/
LOCATION:OSC Youngsville\, 1800 Chemin Metairie Pkwy\, Youngsville\, LA\, 70592\, United States
CATEGORIES:Youngsville
ATTACH;FMTTYPE=image/jpeg:https://oursaviorschurch.com/wp-content/uploads/2022/09/students-bg.jpg
ORGANIZER;CN="OSC%20Youngsville":MAILTO:youngsville@oscfamily.com
END:VEVENT
BEGIN:VEVENT
DTSTART;VALUE=DATE:20261025
DTEND;VALUE=DATE:20261026
DTSTAMP:20260420T131757
CREATED:20250418T164004Z
LAST-MODIFIED:20250418T164004Z
UID:16771-1792886400-1792972799@oursaviorschurch.com
SUMMARY:Middle School Services
DESCRIPTION:We have services for your middle school student during each of our Sunday services.
URL:https://oursaviorschurch.com/event/middle-school-services/2026-10-25/
LOCATION:OSC Youngsville\, 1800 Chemin Metairie Pkwy\, Youngsville\, LA\, 70592\, United States
CATEGORIES:Youngsville
ATTACH;FMTTYPE=image/jpeg:https://oursaviorschurch.com/wp-content/uploads/2022/09/students-bg.jpg
ORGANIZER;CN="OSC%20Youngsville":MAILTO:youngsville@oscfamily.com
END:VEVENT
BEGIN:VEVENT
DTSTART;VALUE=DATE:20261101
DTEND;VALUE=DATE:20261102
DTSTAMP:20260420T131757
CREATED:20250418T164004Z
LAST-MODIFIED:20250418T164004Z
UID:16772-1793491200-1793577599@oursaviorschurch.com
SUMMARY:Middle School Services
DESCRIPTION:We have services for your middle school student during each of our Sunday services.
URL:https://oursaviorschurch.com/event/middle-school-services/2026-11-01/
LOCATION:OSC Youngsville\, 1800 Chemin Metairie Pkwy\, Youngsville\, LA\, 70592\, United States
CATEGORIES:Youngsville
ATTACH;FMTTYPE=image/jpeg:https://oursaviorschurch.com/wp-content/uploads/2022/09/students-bg.jpg
ORGANIZER;CN="OSC%20Youngsville":MAILTO:youngsville@oscfamily.com
END:VEVENT
BEGIN:VEVENT
DTSTART;VALUE=DATE:20261108
DTEND;VALUE=DATE:20261109
DTSTAMP:20260420T131757
CREATED:20250418T164004Z
LAST-MODIFIED:20250418T164004Z
UID:16773-1794096000-1794182399@oursaviorschurch.com
SUMMARY:Middle School Services
DESCRIPTION:We have services for your middle school student during each of our Sunday services.
URL:https://oursaviorschurch.com/event/middle-school-services/2026-11-08/
LOCATION:OSC Youngsville\, 1800 Chemin Metairie Pkwy\, Youngsville\, LA\, 70592\, United States
CATEGORIES:Youngsville
ATTACH;FMTTYPE=image/jpeg:https://oursaviorschurch.com/wp-content/uploads/2022/09/students-bg.jpg
ORGANIZER;CN="OSC%20Youngsville":MAILTO:youngsville@oscfamily.com
END:VEVENT
BEGIN:VEVENT
DTSTART;VALUE=DATE:20261115
DTEND;VALUE=DATE:20261116
DTSTAMP:20260420T131757
CREATED:20250418T164004Z
LAST-MODIFIED:20250418T164004Z
UID:16774-1794700800-1794787199@oursaviorschurch.com
SUMMARY:Middle School Services
DESCRIPTION:We have services for your middle school student during each of our Sunday services.
URL:https://oursaviorschurch.com/event/middle-school-services/2026-11-15/
LOCATION:OSC Youngsville\, 1800 Chemin Metairie Pkwy\, Youngsville\, LA\, 70592\, United States
CATEGORIES:Youngsville
ATTACH;FMTTYPE=image/jpeg:https://oursaviorschurch.com/wp-content/uploads/2022/09/students-bg.jpg
ORGANIZER;CN="OSC%20Youngsville":MAILTO:youngsville@oscfamily.com
END:VEVENT
END:VCALENDAR