BEGIN:VCALENDAR
VERSION:2.0
PRODID:-//Our Savior&#039;s Church - ECPv6.0.13//NONSGML v1.0//EN
CALSCALE:GREGORIAN
METHOD:PUBLISH
X-WR-CALNAME:Our Savior&#039;s Church
X-ORIGINAL-URL:https://oursaviorschurch.com
X-WR-CALDESC:Events for Our Savior&#039;s Church
REFRESH-INTERVAL;VALUE=DURATION:PT1H
X-Robots-Tag:noindex
X-PUBLISHED-TTL:PT1H
BEGIN:VTIMEZONE
TZID:America/Chicago
BEGIN:DAYLIGHT
TZOFFSETFROM:-0600
TZOFFSETTO:-0500
TZNAME:CDT
DTSTART:20260308T080000
END:DAYLIGHT
BEGIN:STANDARD
TZOFFSETFROM:-0500
TZOFFSETTO:-0600
TZNAME:CST
DTSTART:20261101T070000
END:STANDARD
BEGIN:DAYLIGHT
TZOFFSETFROM:-0600
TZOFFSETTO:-0500
TZNAME:CDT
DTSTART:20270314T080000
END:DAYLIGHT
BEGIN:STANDARD
TZOFFSETFROM:-0500
TZOFFSETTO:-0600
TZNAME:CST
DTSTART:20271107T070000
END:STANDARD
BEGIN:DAYLIGHT
TZOFFSETFROM:-0600
TZOFFSETTO:-0500
TZNAME:CDT
DTSTART:20280312T080000
END:DAYLIGHT
BEGIN:STANDARD
TZOFFSETFROM:-0500
TZOFFSETTO:-0600
TZNAME:CST
DTSTART:20281105T070000
END:STANDARD
END:VTIMEZONE
BEGIN:VEVENT
DTSTART;TZID=America/Chicago:20260517T090000
DTEND;TZID=America/Chicago:20260517T113000
DTSTAMP:20260419T183853
CREATED:20250922T180243Z
LAST-MODIFIED:20250922T180243Z
UID:20514-1779008400-1779017400@oursaviorschurch.com
SUMMARY:Baptism
DESCRIPTION:During 9 & 11 am services.
URL:https://oursaviorschurch.com/event/baptism-3/2026-05-17/
CATEGORIES:New Iberia
ATTACH;FMTTYPE=image/png:https://oursaviorschurch.com/wp-content/uploads/2022/09/Baptism-Altscreen.png
END:VEVENT
BEGIN:VEVENT
DTSTART;TZID=America/Chicago:20260621T090000
DTEND;TZID=America/Chicago:20260621T113000
DTSTAMP:20260419T183853
CREATED:20250922T180243Z
LAST-MODIFIED:20250922T180243Z
UID:20515-1782032400-1782041400@oursaviorschurch.com
SUMMARY:Baptism
DESCRIPTION:During 9 & 11 am services.
URL:https://oursaviorschurch.com/event/baptism-3/2026-06-21/
CATEGORIES:New Iberia
ATTACH;FMTTYPE=image/png:https://oursaviorschurch.com/wp-content/uploads/2022/09/Baptism-Altscreen.png
END:VEVENT
BEGIN:VEVENT
DTSTART;TZID=America/Chicago:20260719T090000
DTEND;TZID=America/Chicago:20260719T113000
DTSTAMP:20260419T183853
CREATED:20250922T180243Z
LAST-MODIFIED:20250922T180243Z
UID:20516-1784451600-1784460600@oursaviorschurch.com
SUMMARY:Baptism
DESCRIPTION:During 9 & 11 am services.
URL:https://oursaviorschurch.com/event/baptism-3/2026-07-19/
CATEGORIES:New Iberia
ATTACH;FMTTYPE=image/png:https://oursaviorschurch.com/wp-content/uploads/2022/09/Baptism-Altscreen.png
END:VEVENT
BEGIN:VEVENT
DTSTART;TZID=America/Chicago:20260816T090000
DTEND;TZID=America/Chicago:20260816T113000
DTSTAMP:20260419T183853
CREATED:20250922T180243Z
LAST-MODIFIED:20250922T180243Z
UID:20517-1786870800-1786879800@oursaviorschurch.com
SUMMARY:Baptism
DESCRIPTION:During 9 & 11 am services.
URL:https://oursaviorschurch.com/event/baptism-3/2026-08-16/
CATEGORIES:New Iberia
ATTACH;FMTTYPE=image/png:https://oursaviorschurch.com/wp-content/uploads/2022/09/Baptism-Altscreen.png
END:VEVENT
BEGIN:VEVENT
DTSTART;TZID=America/Chicago:20260920T090000
DTEND;TZID=America/Chicago:20260920T113000
DTSTAMP:20260419T183853
CREATED:20250922T180243Z
LAST-MODIFIED:20250922T180243Z
UID:20518-1789894800-1789903800@oursaviorschurch.com
SUMMARY:Baptism
DESCRIPTION:During 9 & 11 am services.
URL:https://oursaviorschurch.com/event/baptism-3/2026-09-20/
CATEGORIES:New Iberia
ATTACH;FMTTYPE=image/png:https://oursaviorschurch.com/wp-content/uploads/2022/09/Baptism-Altscreen.png
END:VEVENT
BEGIN:VEVENT
DTSTART;TZID=America/Chicago:20261018T090000
DTEND;TZID=America/Chicago:20261018T113000
DTSTAMP:20260419T183853
CREATED:20250922T180243Z
LAST-MODIFIED:20250922T180243Z
UID:20519-1792314000-1792323000@oursaviorschurch.com
SUMMARY:Baptism
DESCRIPTION:During 9 & 11 am services.
URL:https://oursaviorschurch.com/event/baptism-3/2026-10-18/
CATEGORIES:New Iberia
ATTACH;FMTTYPE=image/png:https://oursaviorschurch.com/wp-content/uploads/2022/09/Baptism-Altscreen.png
END:VEVENT
BEGIN:VEVENT
DTSTART;TZID=America/Chicago:20261115T090000
DTEND;TZID=America/Chicago:20261115T113000
DTSTAMP:20260419T183853
CREATED:20250922T180243Z
LAST-MODIFIED:20250922T180243Z
UID:20520-1794733200-1794742200@oursaviorschurch.com
SUMMARY:Baptism
DESCRIPTION:During 9 & 11 am services.
URL:https://oursaviorschurch.com/event/baptism-3/2026-11-15/
CATEGORIES:New Iberia
ATTACH;FMTTYPE=image/png:https://oursaviorschurch.com/wp-content/uploads/2022/09/Baptism-Altscreen.png
END:VEVENT
BEGIN:VEVENT
DTSTART;TZID=America/Chicago:20261220T090000
DTEND;TZID=America/Chicago:20261220T113000
DTSTAMP:20260419T183853
CREATED:20250922T180243Z
LAST-MODIFIED:20250922T180243Z
UID:20521-1797757200-1797766200@oursaviorschurch.com
SUMMARY:Baptism
DESCRIPTION:During 9 & 11 am services.
URL:https://oursaviorschurch.com/event/baptism-3/2026-12-20/
CATEGORIES:New Iberia
ATTACH;FMTTYPE=image/png:https://oursaviorschurch.com/wp-content/uploads/2022/09/Baptism-Altscreen.png
END:VEVENT
BEGIN:VEVENT
DTSTART;TZID=America/Chicago:20270117T090000
DTEND;TZID=America/Chicago:20270117T113000
DTSTAMP:20260419T183853
CREATED:20250922T180243Z
LAST-MODIFIED:20250922T180243Z
UID:20522-1800176400-1800185400@oursaviorschurch.com
SUMMARY:Baptism
DESCRIPTION:During 9 & 11 am services.
URL:https://oursaviorschurch.com/event/baptism-3/2027-01-17/
CATEGORIES:New Iberia
ATTACH;FMTTYPE=image/png:https://oursaviorschurch.com/wp-content/uploads/2022/09/Baptism-Altscreen.png
END:VEVENT
BEGIN:VEVENT
DTSTART;TZID=America/Chicago:20270221T090000
DTEND;TZID=America/Chicago:20270221T113000
DTSTAMP:20260419T183853
CREATED:20250922T180243Z
LAST-MODIFIED:20250922T180243Z
UID:20523-1803200400-1803209400@oursaviorschurch.com
SUMMARY:Baptism
DESCRIPTION:During 9 & 11 am services.
URL:https://oursaviorschurch.com/event/baptism-3/2027-02-21/
CATEGORIES:New Iberia
ATTACH;FMTTYPE=image/png:https://oursaviorschurch.com/wp-content/uploads/2022/09/Baptism-Altscreen.png
END:VEVENT
BEGIN:VEVENT
DTSTART;TZID=America/Chicago:20270321T090000
DTEND;TZID=America/Chicago:20270321T113000
DTSTAMP:20260419T183853
CREATED:20250922T180243Z
LAST-MODIFIED:20250922T180243Z
UID:20524-1805619600-1805628600@oursaviorschurch.com
SUMMARY:Baptism
DESCRIPTION:During 9 & 11 am services.
URL:https://oursaviorschurch.com/event/baptism-3/2027-03-21/
CATEGORIES:New Iberia
ATTACH;FMTTYPE=image/png:https://oursaviorschurch.com/wp-content/uploads/2022/09/Baptism-Altscreen.png
END:VEVENT
BEGIN:VEVENT
DTSTART;TZID=America/Chicago:20270418T090000
DTEND;TZID=America/Chicago:20270418T113000
DTSTAMP:20260419T183853
CREATED:20250922T180243Z
LAST-MODIFIED:20250922T180243Z
UID:20525-1808038800-1808047800@oursaviorschurch.com
SUMMARY:Baptism
DESCRIPTION:During 9 & 11 am services.
URL:https://oursaviorschurch.com/event/baptism-3/2027-04-18/
CATEGORIES:New Iberia
ATTACH;FMTTYPE=image/png:https://oursaviorschurch.com/wp-content/uploads/2022/09/Baptism-Altscreen.png
END:VEVENT
BEGIN:VEVENT
DTSTART;TZID=America/Chicago:20270516T090000
DTEND;TZID=America/Chicago:20270516T113000
DTSTAMP:20260419T183853
CREATED:20250922T180243Z
LAST-MODIFIED:20250922T180243Z
UID:20526-1810458000-1810467000@oursaviorschurch.com
SUMMARY:Baptism
DESCRIPTION:During 9 & 11 am services.
URL:https://oursaviorschurch.com/event/baptism-3/2027-05-16/
CATEGORIES:New Iberia
ATTACH;FMTTYPE=image/png:https://oursaviorschurch.com/wp-content/uploads/2022/09/Baptism-Altscreen.png
END:VEVENT
BEGIN:VEVENT
DTSTART;TZID=America/Chicago:20270620T090000
DTEND;TZID=America/Chicago:20270620T113000
DTSTAMP:20260419T183853
CREATED:20250922T180243Z
LAST-MODIFIED:20250922T180243Z
UID:20527-1813482000-1813491000@oursaviorschurch.com
SUMMARY:Baptism
DESCRIPTION:During 9 & 11 am services.
URL:https://oursaviorschurch.com/event/baptism-3/2027-06-20/
CATEGORIES:New Iberia
ATTACH;FMTTYPE=image/png:https://oursaviorschurch.com/wp-content/uploads/2022/09/Baptism-Altscreen.png
END:VEVENT
BEGIN:VEVENT
DTSTART;TZID=America/Chicago:20270718T090000
DTEND;TZID=America/Chicago:20270718T113000
DTSTAMP:20260419T183853
CREATED:20250922T180243Z
LAST-MODIFIED:20250922T180243Z
UID:20528-1815901200-1815910200@oursaviorschurch.com
SUMMARY:Baptism
DESCRIPTION:During 9 & 11 am services.
URL:https://oursaviorschurch.com/event/baptism-3/2027-07-18/
CATEGORIES:New Iberia
ATTACH;FMTTYPE=image/png:https://oursaviorschurch.com/wp-content/uploads/2022/09/Baptism-Altscreen.png
END:VEVENT
BEGIN:VEVENT
DTSTART;TZID=America/Chicago:20270815T090000
DTEND;TZID=America/Chicago:20270815T113000
DTSTAMP:20260419T183853
CREATED:20250922T180243Z
LAST-MODIFIED:20250922T180243Z
UID:20529-1818320400-1818329400@oursaviorschurch.com
SUMMARY:Baptism
DESCRIPTION:During 9 & 11 am services.
URL:https://oursaviorschurch.com/event/baptism-3/2027-08-15/
CATEGORIES:New Iberia
ATTACH;FMTTYPE=image/png:https://oursaviorschurch.com/wp-content/uploads/2022/09/Baptism-Altscreen.png
END:VEVENT
BEGIN:VEVENT
DTSTART;TZID=America/Chicago:20270919T090000
DTEND;TZID=America/Chicago:20270919T113000
DTSTAMP:20260419T183853
CREATED:20250922T180243Z
LAST-MODIFIED:20250922T180243Z
UID:20530-1821344400-1821353400@oursaviorschurch.com
SUMMARY:Baptism
DESCRIPTION:During 9 & 11 am services.
URL:https://oursaviorschurch.com/event/baptism-3/2027-09-19/
CATEGORIES:New Iberia
ATTACH;FMTTYPE=image/png:https://oursaviorschurch.com/wp-content/uploads/2022/09/Baptism-Altscreen.png
END:VEVENT
BEGIN:VEVENT
DTSTART;TZID=America/Chicago:20271017T090000
DTEND;TZID=America/Chicago:20271017T113000
DTSTAMP:20260419T183853
CREATED:20250922T180243Z
LAST-MODIFIED:20250922T180243Z
UID:20841-1823763600-1823772600@oursaviorschurch.com
SUMMARY:Baptism
DESCRIPTION:During 9 & 11 am services.
URL:https://oursaviorschurch.com/event/baptism-3/2027-10-17/
CATEGORIES:New Iberia
ATTACH;FMTTYPE=image/png:https://oursaviorschurch.com/wp-content/uploads/2022/09/Baptism-Altscreen.png
END:VEVENT
BEGIN:VEVENT
DTSTART;TZID=America/Chicago:20271121T090000
DTEND;TZID=America/Chicago:20271121T113000
DTSTAMP:20260419T183853
CREATED:20250922T180243Z
LAST-MODIFIED:20250922T180243Z
UID:21240-1826787600-1826796600@oursaviorschurch.com
SUMMARY:Baptism
DESCRIPTION:During 9 & 11 am services.
URL:https://oursaviorschurch.com/event/baptism-3/2027-11-21/
CATEGORIES:New Iberia
ATTACH;FMTTYPE=image/png:https://oursaviorschurch.com/wp-content/uploads/2022/09/Baptism-Altscreen.png
END:VEVENT
BEGIN:VEVENT
DTSTART;TZID=America/Chicago:20271219T090000
DTEND;TZID=America/Chicago:20271219T113000
DTSTAMP:20260419T183853
CREATED:20250922T180243Z
LAST-MODIFIED:20250922T180243Z
UID:21562-1829206800-1829215800@oursaviorschurch.com
SUMMARY:Baptism
DESCRIPTION:During 9 & 11 am services.
URL:https://oursaviorschurch.com/event/baptism-3/2027-12-19/
CATEGORIES:New Iberia
ATTACH;FMTTYPE=image/png:https://oursaviorschurch.com/wp-content/uploads/2022/09/Baptism-Altscreen.png
END:VEVENT
BEGIN:VEVENT
DTSTART;TZID=America/Chicago:20280116T090000
DTEND;TZID=America/Chicago:20280116T113000
DTSTAMP:20260419T183853
CREATED:20250922T180243Z
LAST-MODIFIED:20250922T180243Z
UID:21866-1831626000-1831635000@oursaviorschurch.com
SUMMARY:Baptism
DESCRIPTION:During 9 & 11 am services.
URL:https://oursaviorschurch.com/event/baptism-3/2028-01-16/
CATEGORIES:New Iberia
ATTACH;FMTTYPE=image/png:https://oursaviorschurch.com/wp-content/uploads/2022/09/Baptism-Altscreen.png
END:VEVENT
BEGIN:VEVENT
DTSTART;TZID=America/Chicago:20280220T090000
DTEND;TZID=America/Chicago:20280220T113000
DTSTAMP:20260419T183853
CREATED:20250922T180243Z
LAST-MODIFIED:20250922T180243Z
UID:22888-1834650000-1834659000@oursaviorschurch.com
SUMMARY:Baptism
DESCRIPTION:During 9 & 11 am services.
URL:https://oursaviorschurch.com/event/baptism-3/2028-02-20/
CATEGORIES:New Iberia
ATTACH;FMTTYPE=image/png:https://oursaviorschurch.com/wp-content/uploads/2022/09/Baptism-Altscreen.png
END:VEVENT
BEGIN:VEVENT
DTSTART;TZID=America/Chicago:20280319T090000
DTEND;TZID=America/Chicago:20280319T113000
DTSTAMP:20260419T183853
CREATED:20250922T180243Z
LAST-MODIFIED:20250922T180243Z
UID:23385-1837069200-1837078200@oursaviorschurch.com
SUMMARY:Baptism
DESCRIPTION:During 9 & 11 am services.
URL:https://oursaviorschurch.com/event/baptism-3/2028-03-19/
CATEGORIES:New Iberia
ATTACH;FMTTYPE=image/png:https://oursaviorschurch.com/wp-content/uploads/2022/09/Baptism-Altscreen.png
END:VEVENT
BEGIN:VEVENT
DTSTART;TZID=America/Chicago:20280416T090000
DTEND;TZID=America/Chicago:20280416T113000
DTSTAMP:20260419T183853
CREATED:20250922T180243Z
LAST-MODIFIED:20250922T180243Z
UID:24303-1839488400-1839497400@oursaviorschurch.com
SUMMARY:Baptism
DESCRIPTION:During 9 & 11 am services.
URL:https://oursaviorschurch.com/event/baptism-3/2028-04-16/
CATEGORIES:New Iberia
ATTACH;FMTTYPE=image/png:https://oursaviorschurch.com/wp-content/uploads/2022/09/Baptism-Altscreen.png
END:VEVENT
END:VCALENDAR